BEGIN:VCALENDAR
VERSION:2.0
PRODID:-//Broad Run Baptist Church - ECPv6.15.20//NONSGML v1.0//EN
CALSCALE:GREGORIAN
METHOD:PUBLISH
X-WR-CALNAME:Broad Run Baptist Church
X-ORIGINAL-URL:https://broadrunchurch.com
X-WR-CALDESC:Events for Broad Run Baptist Church
REFRESH-INTERVAL;VALUE=DURATION:PT1H
X-Robots-Tag:noindex
X-PUBLISHED-TTL:PT1H
BEGIN:VTIMEZONE
TZID:America/New_York
BEGIN:DAYLIGHT
TZOFFSETFROM:-0500
TZOFFSETTO:-0400
TZNAME:EDT
DTSTART:20250309T070000
END:DAYLIGHT
BEGIN:STANDARD
TZOFFSETFROM:-0400
TZOFFSETTO:-0500
TZNAME:EST
DTSTART:20251102T060000
END:STANDARD
BEGIN:DAYLIGHT
TZOFFSETFROM:-0500
TZOFFSETTO:-0400
TZNAME:EDT
DTSTART:20260308T070000
END:DAYLIGHT
BEGIN:STANDARD
TZOFFSETFROM:-0400
TZOFFSETTO:-0500
TZNAME:EST
DTSTART:20261101T060000
END:STANDARD
BEGIN:DAYLIGHT
TZOFFSETFROM:-0500
TZOFFSETTO:-0400
TZNAME:EDT
DTSTART:20270314T070000
END:DAYLIGHT
BEGIN:STANDARD
TZOFFSETFROM:-0400
TZOFFSETTO:-0500
TZNAME:EST
DTSTART:20271107T060000
END:STANDARD
END:VTIMEZONE
BEGIN:VEVENT
DTSTART;TZID=America/New_York:20260429T183000
DTEND;TZID=America/New_York:20260429T193000
DTSTAMP:20260423T115732
CREATED:20231022T145909Z
LAST-MODIFIED:20231119T152625Z
UID:10002037-1777487400-1777491000@broadrunchurch.com
SUMMARY:Bible Study
DESCRIPTION:
URL:https://broadrunchurch.com/event/bible-study-2/2026-04-29/
LOCATION:Fellowship Hall\, 675 Broad Run Rd.\, Jane Lew\, WV\, 26378
CATEGORIES:Christian Education,Wednesday Bible Study
ATTACH;FMTTYPE=image/jpeg:https://broadrunchurch.com/wp-content/uploads/2023/02/pray-scaled.jpg
END:VEVENT
BEGIN:VEVENT
DTSTART;TZID=America/New_York:20260506T183000
DTEND;TZID=America/New_York:20260506T193000
DTSTAMP:20260423T115732
CREATED:20231022T145909Z
LAST-MODIFIED:20231119T152625Z
UID:10002038-1778092200-1778095800@broadrunchurch.com
SUMMARY:Bible Study
DESCRIPTION:
URL:https://broadrunchurch.com/event/bible-study-2/2026-05-06/
LOCATION:Fellowship Hall\, 675 Broad Run Rd.\, Jane Lew\, WV\, 26378
CATEGORIES:Christian Education,Wednesday Bible Study
ATTACH;FMTTYPE=image/jpeg:https://broadrunchurch.com/wp-content/uploads/2023/02/pray-scaled.jpg
END:VEVENT
BEGIN:VEVENT
DTSTART;TZID=America/New_York:20260513T183000
DTEND;TZID=America/New_York:20260513T193000
DTSTAMP:20260423T115732
CREATED:20231022T145909Z
LAST-MODIFIED:20231119T152625Z
UID:10002039-1778697000-1778700600@broadrunchurch.com
SUMMARY:Bible Study
DESCRIPTION:
URL:https://broadrunchurch.com/event/bible-study-2/2026-05-13/
LOCATION:Fellowship Hall\, 675 Broad Run Rd.\, Jane Lew\, WV\, 26378
CATEGORIES:Christian Education,Wednesday Bible Study
ATTACH;FMTTYPE=image/jpeg:https://broadrunchurch.com/wp-content/uploads/2023/02/pray-scaled.jpg
END:VEVENT
BEGIN:VEVENT
DTSTART;TZID=America/New_York:20260520T183000
DTEND;TZID=America/New_York:20260520T193000
DTSTAMP:20260423T115732
CREATED:20231022T145909Z
LAST-MODIFIED:20231119T152625Z
UID:10002040-1779301800-1779305400@broadrunchurch.com
SUMMARY:Bible Study
DESCRIPTION:
URL:https://broadrunchurch.com/event/bible-study-2/2026-05-20/
LOCATION:Fellowship Hall\, 675 Broad Run Rd.\, Jane Lew\, WV\, 26378
CATEGORIES:Christian Education,Wednesday Bible Study
ATTACH;FMTTYPE=image/jpeg:https://broadrunchurch.com/wp-content/uploads/2023/02/pray-scaled.jpg
END:VEVENT
BEGIN:VEVENT
DTSTART;TZID=America/New_York:20260527T183000
DTEND;TZID=America/New_York:20260527T193000
DTSTAMP:20260423T115732
CREATED:20231022T145909Z
LAST-MODIFIED:20231119T152625Z
UID:10002041-1779906600-1779910200@broadrunchurch.com
SUMMARY:Bible Study
DESCRIPTION:
URL:https://broadrunchurch.com/event/bible-study-2/2026-05-27/
LOCATION:Fellowship Hall\, 675 Broad Run Rd.\, Jane Lew\, WV\, 26378
CATEGORIES:Christian Education,Wednesday Bible Study
ATTACH;FMTTYPE=image/jpeg:https://broadrunchurch.com/wp-content/uploads/2023/02/pray-scaled.jpg
END:VEVENT
BEGIN:VEVENT
DTSTART;TZID=America/New_York:20260603T183000
DTEND;TZID=America/New_York:20260603T193000
DTSTAMP:20260423T115732
CREATED:20231022T145909Z
LAST-MODIFIED:20231119T152625Z
UID:10002042-1780511400-1780515000@broadrunchurch.com
SUMMARY:Bible Study
DESCRIPTION:
URL:https://broadrunchurch.com/event/bible-study-2/2026-06-03/
LOCATION:Fellowship Hall\, 675 Broad Run Rd.\, Jane Lew\, WV\, 26378
CATEGORIES:Christian Education,Wednesday Bible Study
ATTACH;FMTTYPE=image/jpeg:https://broadrunchurch.com/wp-content/uploads/2023/02/pray-scaled.jpg
END:VEVENT
BEGIN:VEVENT
DTSTART;TZID=America/New_York:20260610T183000
DTEND;TZID=America/New_York:20260610T193000
DTSTAMP:20260423T115732
CREATED:20231022T145909Z
LAST-MODIFIED:20231119T152625Z
UID:10002043-1781116200-1781119800@broadrunchurch.com
SUMMARY:Bible Study
DESCRIPTION:
URL:https://broadrunchurch.com/event/bible-study-2/2026-06-10/
LOCATION:Fellowship Hall\, 675 Broad Run Rd.\, Jane Lew\, WV\, 26378
CATEGORIES:Christian Education,Wednesday Bible Study
ATTACH;FMTTYPE=image/jpeg:https://broadrunchurch.com/wp-content/uploads/2023/02/pray-scaled.jpg
END:VEVENT
BEGIN:VEVENT
DTSTART;TZID=America/New_York:20260617T183000
DTEND;TZID=America/New_York:20260617T193000
DTSTAMP:20260423T115732
CREATED:20231022T145909Z
LAST-MODIFIED:20231119T152625Z
UID:10002044-1781721000-1781724600@broadrunchurch.com
SUMMARY:Bible Study
DESCRIPTION:
URL:https://broadrunchurch.com/event/bible-study-2/2026-06-17/
LOCATION:Fellowship Hall\, 675 Broad Run Rd.\, Jane Lew\, WV\, 26378
CATEGORIES:Christian Education,Wednesday Bible Study
ATTACH;FMTTYPE=image/jpeg:https://broadrunchurch.com/wp-content/uploads/2023/02/pray-scaled.jpg
END:VEVENT
BEGIN:VEVENT
DTSTART;TZID=America/New_York:20260624T183000
DTEND;TZID=America/New_York:20260624T193000
DTSTAMP:20260423T115732
CREATED:20231022T145909Z
LAST-MODIFIED:20231119T152625Z
UID:10002045-1782325800-1782329400@broadrunchurch.com
SUMMARY:Bible Study
DESCRIPTION:
URL:https://broadrunchurch.com/event/bible-study-2/2026-06-24/
LOCATION:Fellowship Hall\, 675 Broad Run Rd.\, Jane Lew\, WV\, 26378
CATEGORIES:Christian Education,Wednesday Bible Study
ATTACH;FMTTYPE=image/jpeg:https://broadrunchurch.com/wp-content/uploads/2023/02/pray-scaled.jpg
END:VEVENT
BEGIN:VEVENT
DTSTART;TZID=America/New_York:20260701T183000
DTEND;TZID=America/New_York:20260701T193000
DTSTAMP:20260423T115732
CREATED:20231022T145909Z
LAST-MODIFIED:20231119T152625Z
UID:10002046-1782930600-1782934200@broadrunchurch.com
SUMMARY:Bible Study
DESCRIPTION:
URL:https://broadrunchurch.com/event/bible-study-2/2026-07-01/
LOCATION:Fellowship Hall\, 675 Broad Run Rd.\, Jane Lew\, WV\, 26378
CATEGORIES:Christian Education,Wednesday Bible Study
ATTACH;FMTTYPE=image/jpeg:https://broadrunchurch.com/wp-content/uploads/2023/02/pray-scaled.jpg
END:VEVENT
BEGIN:VEVENT
DTSTART;TZID=America/New_York:20260708T183000
DTEND;TZID=America/New_York:20260708T193000
DTSTAMP:20260423T115732
CREATED:20231022T145909Z
LAST-MODIFIED:20231119T152625Z
UID:10002047-1783535400-1783539000@broadrunchurch.com
SUMMARY:Bible Study
DESCRIPTION:
URL:https://broadrunchurch.com/event/bible-study-2/2026-07-08/
LOCATION:Fellowship Hall\, 675 Broad Run Rd.\, Jane Lew\, WV\, 26378
CATEGORIES:Christian Education,Wednesday Bible Study
ATTACH;FMTTYPE=image/jpeg:https://broadrunchurch.com/wp-content/uploads/2023/02/pray-scaled.jpg
END:VEVENT
BEGIN:VEVENT
DTSTART;TZID=America/New_York:20260715T183000
DTEND;TZID=America/New_York:20260715T193000
DTSTAMP:20260423T115732
CREATED:20231022T145909Z
LAST-MODIFIED:20231119T152625Z
UID:10002048-1784140200-1784143800@broadrunchurch.com
SUMMARY:Bible Study
DESCRIPTION:
URL:https://broadrunchurch.com/event/bible-study-2/2026-07-15/
LOCATION:Fellowship Hall\, 675 Broad Run Rd.\, Jane Lew\, WV\, 26378
CATEGORIES:Christian Education,Wednesday Bible Study
ATTACH;FMTTYPE=image/jpeg:https://broadrunchurch.com/wp-content/uploads/2023/02/pray-scaled.jpg
END:VEVENT
BEGIN:VEVENT
DTSTART;TZID=America/New_York:20260722T183000
DTEND;TZID=America/New_York:20260722T193000
DTSTAMP:20260423T115733
CREATED:20231022T145909Z
LAST-MODIFIED:20231119T152625Z
UID:10002049-1784745000-1784748600@broadrunchurch.com
SUMMARY:Bible Study
DESCRIPTION:
URL:https://broadrunchurch.com/event/bible-study-2/2026-07-22/
LOCATION:Fellowship Hall\, 675 Broad Run Rd.\, Jane Lew\, WV\, 26378
CATEGORIES:Christian Education,Wednesday Bible Study
ATTACH;FMTTYPE=image/jpeg:https://broadrunchurch.com/wp-content/uploads/2023/02/pray-scaled.jpg
END:VEVENT
BEGIN:VEVENT
DTSTART;TZID=America/New_York:20260729T183000
DTEND;TZID=America/New_York:20260729T193000
DTSTAMP:20260423T115733
CREATED:20231022T145909Z
LAST-MODIFIED:20231119T152625Z
UID:10002050-1785349800-1785353400@broadrunchurch.com
SUMMARY:Bible Study
DESCRIPTION:
URL:https://broadrunchurch.com/event/bible-study-2/2026-07-29/
LOCATION:Fellowship Hall\, 675 Broad Run Rd.\, Jane Lew\, WV\, 26378
CATEGORIES:Christian Education,Wednesday Bible Study
ATTACH;FMTTYPE=image/jpeg:https://broadrunchurch.com/wp-content/uploads/2023/02/pray-scaled.jpg
END:VEVENT
BEGIN:VEVENT
DTSTART;TZID=America/New_York:20260805T183000
DTEND;TZID=America/New_York:20260805T193000
DTSTAMP:20260423T115733
CREATED:20231022T145909Z
LAST-MODIFIED:20231119T152625Z
UID:10002051-1785954600-1785958200@broadrunchurch.com
SUMMARY:Bible Study
DESCRIPTION:
URL:https://broadrunchurch.com/event/bible-study-2/2026-08-05/
LOCATION:Fellowship Hall\, 675 Broad Run Rd.\, Jane Lew\, WV\, 26378
CATEGORIES:Christian Education,Wednesday Bible Study
ATTACH;FMTTYPE=image/jpeg:https://broadrunchurch.com/wp-content/uploads/2023/02/pray-scaled.jpg
END:VEVENT
BEGIN:VEVENT
DTSTART;TZID=America/New_York:20260812T183000
DTEND;TZID=America/New_York:20260812T193000
DTSTAMP:20260423T115733
CREATED:20231022T145909Z
LAST-MODIFIED:20231119T152625Z
UID:10002052-1786559400-1786563000@broadrunchurch.com
SUMMARY:Bible Study
DESCRIPTION:
URL:https://broadrunchurch.com/event/bible-study-2/2026-08-12/
LOCATION:Fellowship Hall\, 675 Broad Run Rd.\, Jane Lew\, WV\, 26378
CATEGORIES:Christian Education,Wednesday Bible Study
ATTACH;FMTTYPE=image/jpeg:https://broadrunchurch.com/wp-content/uploads/2023/02/pray-scaled.jpg
END:VEVENT
BEGIN:VEVENT
DTSTART;TZID=America/New_York:20260819T183000
DTEND;TZID=America/New_York:20260819T193000
DTSTAMP:20260423T115733
CREATED:20231022T145909Z
LAST-MODIFIED:20231119T152625Z
UID:10002053-1787164200-1787167800@broadrunchurch.com
SUMMARY:Bible Study
DESCRIPTION:
URL:https://broadrunchurch.com/event/bible-study-2/2026-08-19/
LOCATION:Fellowship Hall\, 675 Broad Run Rd.\, Jane Lew\, WV\, 26378
CATEGORIES:Christian Education,Wednesday Bible Study
ATTACH;FMTTYPE=image/jpeg:https://broadrunchurch.com/wp-content/uploads/2023/02/pray-scaled.jpg
END:VEVENT
BEGIN:VEVENT
DTSTART;TZID=America/New_York:20260826T183000
DTEND;TZID=America/New_York:20260826T193000
DTSTAMP:20260423T115733
CREATED:20231022T145909Z
LAST-MODIFIED:20231119T152625Z
UID:10002054-1787769000-1787772600@broadrunchurch.com
SUMMARY:Bible Study
DESCRIPTION:
URL:https://broadrunchurch.com/event/bible-study-2/2026-08-26/
LOCATION:Fellowship Hall\, 675 Broad Run Rd.\, Jane Lew\, WV\, 26378
CATEGORIES:Christian Education,Wednesday Bible Study
ATTACH;FMTTYPE=image/jpeg:https://broadrunchurch.com/wp-content/uploads/2023/02/pray-scaled.jpg
END:VEVENT
BEGIN:VEVENT
DTSTART;TZID=America/New_York:20260902T183000
DTEND;TZID=America/New_York:20260902T193000
DTSTAMP:20260423T115733
CREATED:20231022T145909Z
LAST-MODIFIED:20231119T152625Z
UID:10002055-1788373800-1788377400@broadrunchurch.com
SUMMARY:Bible Study
DESCRIPTION:
URL:https://broadrunchurch.com/event/bible-study-2/2026-09-02/
LOCATION:Fellowship Hall\, 675 Broad Run Rd.\, Jane Lew\, WV\, 26378
CATEGORIES:Christian Education,Wednesday Bible Study
ATTACH;FMTTYPE=image/jpeg:https://broadrunchurch.com/wp-content/uploads/2023/02/pray-scaled.jpg
END:VEVENT
BEGIN:VEVENT
DTSTART;TZID=America/New_York:20260909T183000
DTEND;TZID=America/New_York:20260909T193000
DTSTAMP:20260423T115733
CREATED:20231022T145909Z
LAST-MODIFIED:20231119T152625Z
UID:10002056-1788978600-1788982200@broadrunchurch.com
SUMMARY:Bible Study
DESCRIPTION:
URL:https://broadrunchurch.com/event/bible-study-2/2026-09-09/
LOCATION:Fellowship Hall\, 675 Broad Run Rd.\, Jane Lew\, WV\, 26378
CATEGORIES:Christian Education,Wednesday Bible Study
ATTACH;FMTTYPE=image/jpeg:https://broadrunchurch.com/wp-content/uploads/2023/02/pray-scaled.jpg
END:VEVENT
BEGIN:VEVENT
DTSTART;TZID=America/New_York:20260916T183000
DTEND;TZID=America/New_York:20260916T193000
DTSTAMP:20260423T115733
CREATED:20231022T145909Z
LAST-MODIFIED:20231119T152625Z
UID:10002057-1789583400-1789587000@broadrunchurch.com
SUMMARY:Bible Study
DESCRIPTION:
URL:https://broadrunchurch.com/event/bible-study-2/2026-09-16/
LOCATION:Fellowship Hall\, 675 Broad Run Rd.\, Jane Lew\, WV\, 26378
CATEGORIES:Christian Education,Wednesday Bible Study
ATTACH;FMTTYPE=image/jpeg:https://broadrunchurch.com/wp-content/uploads/2023/02/pray-scaled.jpg
END:VEVENT
BEGIN:VEVENT
DTSTART;TZID=America/New_York:20260923T183000
DTEND;TZID=America/New_York:20260923T193000
DTSTAMP:20260423T115733
CREATED:20231022T145909Z
LAST-MODIFIED:20231119T152625Z
UID:10002058-1790188200-1790191800@broadrunchurch.com
SUMMARY:Bible Study
DESCRIPTION:
URL:https://broadrunchurch.com/event/bible-study-2/2026-09-23/
LOCATION:Fellowship Hall\, 675 Broad Run Rd.\, Jane Lew\, WV\, 26378
CATEGORIES:Christian Education,Wednesday Bible Study
ATTACH;FMTTYPE=image/jpeg:https://broadrunchurch.com/wp-content/uploads/2023/02/pray-scaled.jpg
END:VEVENT
BEGIN:VEVENT
DTSTART;TZID=America/New_York:20260930T183000
DTEND;TZID=America/New_York:20260930T193000
DTSTAMP:20260423T115733
CREATED:20231022T145909Z
LAST-MODIFIED:20231119T152625Z
UID:10002059-1790793000-1790796600@broadrunchurch.com
SUMMARY:Bible Study
DESCRIPTION:
URL:https://broadrunchurch.com/event/bible-study-2/2026-09-30/
LOCATION:Fellowship Hall\, 675 Broad Run Rd.\, Jane Lew\, WV\, 26378
CATEGORIES:Christian Education,Wednesday Bible Study
ATTACH;FMTTYPE=image/jpeg:https://broadrunchurch.com/wp-content/uploads/2023/02/pray-scaled.jpg
END:VEVENT
BEGIN:VEVENT
DTSTART;TZID=America/New_York:20261007T183000
DTEND;TZID=America/New_York:20261007T193000
DTSTAMP:20260423T115733
CREATED:20231022T145909Z
LAST-MODIFIED:20231119T152625Z
UID:10002060-1791397800-1791401400@broadrunchurch.com
SUMMARY:Bible Study
DESCRIPTION:
URL:https://broadrunchurch.com/event/bible-study-2/2026-10-07/
LOCATION:Fellowship Hall\, 675 Broad Run Rd.\, Jane Lew\, WV\, 26378
CATEGORIES:Christian Education,Wednesday Bible Study
ATTACH;FMTTYPE=image/jpeg:https://broadrunchurch.com/wp-content/uploads/2023/02/pray-scaled.jpg
END:VEVENT
BEGIN:VEVENT
DTSTART;TZID=America/New_York:20261014T183000
DTEND;TZID=America/New_York:20261014T193000
DTSTAMP:20260423T115733
CREATED:20231022T145909Z
LAST-MODIFIED:20231119T152625Z
UID:10002061-1792002600-1792006200@broadrunchurch.com
SUMMARY:Bible Study
DESCRIPTION:
URL:https://broadrunchurch.com/event/bible-study-2/2026-10-14/
LOCATION:Fellowship Hall\, 675 Broad Run Rd.\, Jane Lew\, WV\, 26378
CATEGORIES:Christian Education,Wednesday Bible Study
ATTACH;FMTTYPE=image/jpeg:https://broadrunchurch.com/wp-content/uploads/2023/02/pray-scaled.jpg
END:VEVENT
BEGIN:VEVENT
DTSTART;TZID=America/New_York:20261021T183000
DTEND;TZID=America/New_York:20261021T193000
DTSTAMP:20260423T115733
CREATED:20231022T145909Z
LAST-MODIFIED:20231119T152625Z
UID:10002062-1792607400-1792611000@broadrunchurch.com
SUMMARY:Bible Study
DESCRIPTION:
URL:https://broadrunchurch.com/event/bible-study-2/2026-10-21/
LOCATION:Fellowship Hall\, 675 Broad Run Rd.\, Jane Lew\, WV\, 26378
CATEGORIES:Christian Education,Wednesday Bible Study
ATTACH;FMTTYPE=image/jpeg:https://broadrunchurch.com/wp-content/uploads/2023/02/pray-scaled.jpg
END:VEVENT
BEGIN:VEVENT
DTSTART;TZID=America/New_York:20261028T183000
DTEND;TZID=America/New_York:20261028T193000
DTSTAMP:20260423T115733
CREATED:20231022T145909Z
LAST-MODIFIED:20231119T152625Z
UID:10002063-1793212200-1793215800@broadrunchurch.com
SUMMARY:Bible Study
DESCRIPTION:
URL:https://broadrunchurch.com/event/bible-study-2/2026-10-28/
LOCATION:Fellowship Hall\, 675 Broad Run Rd.\, Jane Lew\, WV\, 26378
CATEGORIES:Christian Education,Wednesday Bible Study
ATTACH;FMTTYPE=image/jpeg:https://broadrunchurch.com/wp-content/uploads/2023/02/pray-scaled.jpg
END:VEVENT
BEGIN:VEVENT
DTSTART;TZID=America/New_York:20261104T183000
DTEND;TZID=America/New_York:20261104T193000
DTSTAMP:20260423T115733
CREATED:20231022T145909Z
LAST-MODIFIED:20231119T152625Z
UID:10002064-1793817000-1793820600@broadrunchurch.com
SUMMARY:Bible Study
DESCRIPTION:
URL:https://broadrunchurch.com/event/bible-study-2/2026-11-04/
LOCATION:Fellowship Hall\, 675 Broad Run Rd.\, Jane Lew\, WV\, 26378
CATEGORIES:Christian Education,Wednesday Bible Study
ATTACH;FMTTYPE=image/jpeg:https://broadrunchurch.com/wp-content/uploads/2023/02/pray-scaled.jpg
END:VEVENT
BEGIN:VEVENT
DTSTART;TZID=America/New_York:20261111T183000
DTEND;TZID=America/New_York:20261111T193000
DTSTAMP:20260423T115733
CREATED:20231022T145909Z
LAST-MODIFIED:20231119T152625Z
UID:10002065-1794421800-1794425400@broadrunchurch.com
SUMMARY:Bible Study
DESCRIPTION:
URL:https://broadrunchurch.com/event/bible-study-2/2026-11-11/
LOCATION:Fellowship Hall\, 675 Broad Run Rd.\, Jane Lew\, WV\, 26378
CATEGORIES:Christian Education,Wednesday Bible Study
ATTACH;FMTTYPE=image/jpeg:https://broadrunchurch.com/wp-content/uploads/2023/02/pray-scaled.jpg
END:VEVENT
BEGIN:VEVENT
DTSTART;TZID=America/New_York:20261118T183000
DTEND;TZID=America/New_York:20261118T193000
DTSTAMP:20260423T115733
CREATED:20231022T145909Z
LAST-MODIFIED:20231119T152625Z
UID:10002066-1795026600-1795030200@broadrunchurch.com
SUMMARY:Bible Study
DESCRIPTION:
URL:https://broadrunchurch.com/event/bible-study-2/2026-11-18/
LOCATION:Fellowship Hall\, 675 Broad Run Rd.\, Jane Lew\, WV\, 26378
CATEGORIES:Christian Education,Wednesday Bible Study
ATTACH;FMTTYPE=image/jpeg:https://broadrunchurch.com/wp-content/uploads/2023/02/pray-scaled.jpg
END:VEVENT
END:VCALENDAR