BEGIN:VCALENDAR
VERSION:2.0
PRODID:-//Broad Run Baptist Church - ECPv6.15.20//NONSGML v1.0//EN
CALSCALE:GREGORIAN
METHOD:PUBLISH
X-WR-CALNAME:Broad Run Baptist Church
X-ORIGINAL-URL:https://broadrunchurch.com
X-WR-CALDESC:Events for Broad Run Baptist Church
REFRESH-INTERVAL;VALUE=DURATION:PT1H
X-Robots-Tag:noindex
X-PUBLISHED-TTL:PT1H
BEGIN:VTIMEZONE
TZID:America/New_York
BEGIN:DAYLIGHT
TZOFFSETFROM:-0500
TZOFFSETTO:-0400
TZNAME:EDT
DTSTART:20250309T070000
END:DAYLIGHT
BEGIN:STANDARD
TZOFFSETFROM:-0400
TZOFFSETTO:-0500
TZNAME:EST
DTSTART:20251102T060000
END:STANDARD
BEGIN:DAYLIGHT
TZOFFSETFROM:-0500
TZOFFSETTO:-0400
TZNAME:EDT
DTSTART:20260308T070000
END:DAYLIGHT
BEGIN:STANDARD
TZOFFSETFROM:-0400
TZOFFSETTO:-0500
TZNAME:EST
DTSTART:20261101T060000
END:STANDARD
BEGIN:DAYLIGHT
TZOFFSETFROM:-0500
TZOFFSETTO:-0400
TZNAME:EDT
DTSTART:20270314T070000
END:DAYLIGHT
BEGIN:STANDARD
TZOFFSETFROM:-0400
TZOFFSETTO:-0500
TZNAME:EST
DTSTART:20271107T060000
END:STANDARD
BEGIN:DAYLIGHT
TZOFFSETFROM:-0500
TZOFFSETTO:-0400
TZNAME:EDT
DTSTART:20280312T070000
END:DAYLIGHT
BEGIN:STANDARD
TZOFFSETFROM:-0400
TZOFFSETTO:-0500
TZNAME:EST
DTSTART:20281105T060000
END:STANDARD
BEGIN:DAYLIGHT
TZOFFSETFROM:-0500
TZOFFSETTO:-0400
TZNAME:EDT
DTSTART:20290311T070000
END:DAYLIGHT
BEGIN:STANDARD
TZOFFSETFROM:-0400
TZOFFSETTO:-0500
TZNAME:EST
DTSTART:20291104T060000
END:STANDARD
END:VTIMEZONE
BEGIN:VEVENT
DTSTART;TZID=America/New_York:20260510T183000
DTEND;TZID=America/New_York:20260510T193000
DTSTAMP:20260423T181220
CREATED:20230311T160335Z
LAST-MODIFIED:20230311T160335Z
UID:10000385-1778437800-1778441400@broadrunchurch.com
SUMMARY:Monthly Deacon Meeting
DESCRIPTION:
URL:https://broadrunchurch.com/event/monthly-deacon-meeting/2026-05-10/
LOCATION:Fellowship Hall\, 675 Broad Run Rd.\, Jane Lew\, WV\, 26378
END:VEVENT
BEGIN:VEVENT
DTSTART;TZID=America/New_York:20260614T183000
DTEND;TZID=America/New_York:20260614T193000
DTSTAMP:20260423T181220
CREATED:20230311T160335Z
LAST-MODIFIED:20230311T160335Z
UID:10000386-1781461800-1781465400@broadrunchurch.com
SUMMARY:Monthly Deacon Meeting
DESCRIPTION:
URL:https://broadrunchurch.com/event/monthly-deacon-meeting/2026-06-14/
LOCATION:Fellowship Hall\, 675 Broad Run Rd.\, Jane Lew\, WV\, 26378
END:VEVENT
BEGIN:VEVENT
DTSTART;TZID=America/New_York:20260712T183000
DTEND;TZID=America/New_York:20260712T193000
DTSTAMP:20260423T181220
CREATED:20230311T160335Z
LAST-MODIFIED:20230311T160335Z
UID:10000387-1783881000-1783884600@broadrunchurch.com
SUMMARY:Monthly Deacon Meeting
DESCRIPTION:
URL:https://broadrunchurch.com/event/monthly-deacon-meeting/2026-07-12/
LOCATION:Fellowship Hall\, 675 Broad Run Rd.\, Jane Lew\, WV\, 26378
END:VEVENT
BEGIN:VEVENT
DTSTART;TZID=America/New_York:20260809T183000
DTEND;TZID=America/New_York:20260809T193000
DTSTAMP:20260423T181220
CREATED:20230311T160335Z
LAST-MODIFIED:20230311T160335Z
UID:10000388-1786300200-1786303800@broadrunchurch.com
SUMMARY:Monthly Deacon Meeting
DESCRIPTION:
URL:https://broadrunchurch.com/event/monthly-deacon-meeting/2026-08-09/
LOCATION:Fellowship Hall\, 675 Broad Run Rd.\, Jane Lew\, WV\, 26378
END:VEVENT
BEGIN:VEVENT
DTSTART;TZID=America/New_York:20260913T183000
DTEND;TZID=America/New_York:20260913T193000
DTSTAMP:20260423T181220
CREATED:20230311T160335Z
LAST-MODIFIED:20230311T160335Z
UID:10000389-1789324200-1789327800@broadrunchurch.com
SUMMARY:Monthly Deacon Meeting
DESCRIPTION:
URL:https://broadrunchurch.com/event/monthly-deacon-meeting/2026-09-13/
LOCATION:Fellowship Hall\, 675 Broad Run Rd.\, Jane Lew\, WV\, 26378
END:VEVENT
BEGIN:VEVENT
DTSTART;TZID=America/New_York:20261011T183000
DTEND;TZID=America/New_York:20261011T193000
DTSTAMP:20260423T181220
CREATED:20230311T160335Z
LAST-MODIFIED:20230311T160335Z
UID:10000390-1791743400-1791747000@broadrunchurch.com
SUMMARY:Monthly Deacon Meeting
DESCRIPTION:
URL:https://broadrunchurch.com/event/monthly-deacon-meeting/2026-10-11/
LOCATION:Fellowship Hall\, 675 Broad Run Rd.\, Jane Lew\, WV\, 26378
END:VEVENT
BEGIN:VEVENT
DTSTART;TZID=America/New_York:20261108T183000
DTEND;TZID=America/New_York:20261108T193000
DTSTAMP:20260423T181220
CREATED:20230311T160335Z
LAST-MODIFIED:20230311T160335Z
UID:10000391-1794162600-1794166200@broadrunchurch.com
SUMMARY:Monthly Deacon Meeting
DESCRIPTION:
URL:https://broadrunchurch.com/event/monthly-deacon-meeting/2026-11-08/
LOCATION:Fellowship Hall\, 675 Broad Run Rd.\, Jane Lew\, WV\, 26378
END:VEVENT
BEGIN:VEVENT
DTSTART;TZID=America/New_York:20261213T183000
DTEND;TZID=America/New_York:20261213T193000
DTSTAMP:20260423T181220
CREATED:20230311T160335Z
LAST-MODIFIED:20230311T160335Z
UID:10000392-1797186600-1797190200@broadrunchurch.com
SUMMARY:Monthly Deacon Meeting
DESCRIPTION:
URL:https://broadrunchurch.com/event/monthly-deacon-meeting/2026-12-13/
LOCATION:Fellowship Hall\, 675 Broad Run Rd.\, Jane Lew\, WV\, 26378
END:VEVENT
BEGIN:VEVENT
DTSTART;TZID=America/New_York:20270110T183000
DTEND;TZID=America/New_York:20270110T193000
DTSTAMP:20260423T181220
CREATED:20230311T160335Z
LAST-MODIFIED:20230311T160335Z
UID:10000393-1799605800-1799609400@broadrunchurch.com
SUMMARY:Monthly Deacon Meeting
DESCRIPTION:
URL:https://broadrunchurch.com/event/monthly-deacon-meeting/2027-01-10/
LOCATION:Fellowship Hall\, 675 Broad Run Rd.\, Jane Lew\, WV\, 26378
END:VEVENT
BEGIN:VEVENT
DTSTART;TZID=America/New_York:20270214T183000
DTEND;TZID=America/New_York:20270214T193000
DTSTAMP:20260423T181220
CREATED:20230311T160335Z
LAST-MODIFIED:20230311T160335Z
UID:10000394-1802629800-1802633400@broadrunchurch.com
SUMMARY:Monthly Deacon Meeting
DESCRIPTION:
URL:https://broadrunchurch.com/event/monthly-deacon-meeting/2027-02-14/
LOCATION:Fellowship Hall\, 675 Broad Run Rd.\, Jane Lew\, WV\, 26378
END:VEVENT
BEGIN:VEVENT
DTSTART;TZID=America/New_York:20270314T183000
DTEND;TZID=America/New_York:20270314T193000
DTSTAMP:20260423T181220
CREATED:20230311T160335Z
LAST-MODIFIED:20230311T160335Z
UID:10000395-1805049000-1805052600@broadrunchurch.com
SUMMARY:Monthly Deacon Meeting
DESCRIPTION:
URL:https://broadrunchurch.com/event/monthly-deacon-meeting/2027-03-14/
LOCATION:Fellowship Hall\, 675 Broad Run Rd.\, Jane Lew\, WV\, 26378
END:VEVENT
BEGIN:VEVENT
DTSTART;TZID=America/New_York:20270411T183000
DTEND;TZID=America/New_York:20270411T193000
DTSTAMP:20260423T181220
CREATED:20230311T160335Z
LAST-MODIFIED:20230311T160335Z
UID:10000396-1807468200-1807471800@broadrunchurch.com
SUMMARY:Monthly Deacon Meeting
DESCRIPTION:
URL:https://broadrunchurch.com/event/monthly-deacon-meeting/2027-04-11/
LOCATION:Fellowship Hall\, 675 Broad Run Rd.\, Jane Lew\, WV\, 26378
END:VEVENT
BEGIN:VEVENT
DTSTART;TZID=America/New_York:20270509T183000
DTEND;TZID=America/New_York:20270509T193000
DTSTAMP:20260423T181220
CREATED:20230311T160335Z
LAST-MODIFIED:20230311T160335Z
UID:10000397-1809887400-1809891000@broadrunchurch.com
SUMMARY:Monthly Deacon Meeting
DESCRIPTION:
URL:https://broadrunchurch.com/event/monthly-deacon-meeting/2027-05-09/
LOCATION:Fellowship Hall\, 675 Broad Run Rd.\, Jane Lew\, WV\, 26378
END:VEVENT
BEGIN:VEVENT
DTSTART;TZID=America/New_York:20270613T183000
DTEND;TZID=America/New_York:20270613T193000
DTSTAMP:20260423T181220
CREATED:20230311T160335Z
LAST-MODIFIED:20230311T160335Z
UID:10000398-1812911400-1812915000@broadrunchurch.com
SUMMARY:Monthly Deacon Meeting
DESCRIPTION:
URL:https://broadrunchurch.com/event/monthly-deacon-meeting/2027-06-13/
LOCATION:Fellowship Hall\, 675 Broad Run Rd.\, Jane Lew\, WV\, 26378
END:VEVENT
BEGIN:VEVENT
DTSTART;TZID=America/New_York:20270711T183000
DTEND;TZID=America/New_York:20270711T193000
DTSTAMP:20260423T181220
CREATED:20230311T160335Z
LAST-MODIFIED:20230311T160335Z
UID:10000399-1815330600-1815334200@broadrunchurch.com
SUMMARY:Monthly Deacon Meeting
DESCRIPTION:
URL:https://broadrunchurch.com/event/monthly-deacon-meeting/2027-07-11/
LOCATION:Fellowship Hall\, 675 Broad Run Rd.\, Jane Lew\, WV\, 26378
END:VEVENT
BEGIN:VEVENT
DTSTART;TZID=America/New_York:20270808T183000
DTEND;TZID=America/New_York:20270808T193000
DTSTAMP:20260423T181220
CREATED:20230311T160335Z
LAST-MODIFIED:20230311T160335Z
UID:10000400-1817749800-1817753400@broadrunchurch.com
SUMMARY:Monthly Deacon Meeting
DESCRIPTION:
URL:https://broadrunchurch.com/event/monthly-deacon-meeting/2027-08-08/
LOCATION:Fellowship Hall\, 675 Broad Run Rd.\, Jane Lew\, WV\, 26378
END:VEVENT
BEGIN:VEVENT
DTSTART;TZID=America/New_York:20270912T183000
DTEND;TZID=America/New_York:20270912T193000
DTSTAMP:20260423T181220
CREATED:20230311T160335Z
LAST-MODIFIED:20230311T160335Z
UID:10000401-1820773800-1820777400@broadrunchurch.com
SUMMARY:Monthly Deacon Meeting
DESCRIPTION:
URL:https://broadrunchurch.com/event/monthly-deacon-meeting/2027-09-12/
LOCATION:Fellowship Hall\, 675 Broad Run Rd.\, Jane Lew\, WV\, 26378
END:VEVENT
BEGIN:VEVENT
DTSTART;TZID=America/New_York:20271010T183000
DTEND;TZID=America/New_York:20271010T193000
DTSTAMP:20260423T181220
CREATED:20230311T160335Z
LAST-MODIFIED:20230311T160335Z
UID:10000402-1823193000-1823196600@broadrunchurch.com
SUMMARY:Monthly Deacon Meeting
DESCRIPTION:
URL:https://broadrunchurch.com/event/monthly-deacon-meeting/2027-10-10/
LOCATION:Fellowship Hall\, 675 Broad Run Rd.\, Jane Lew\, WV\, 26378
END:VEVENT
BEGIN:VEVENT
DTSTART;TZID=America/New_York:20271114T183000
DTEND;TZID=America/New_York:20271114T193000
DTSTAMP:20260423T181220
CREATED:20230311T160335Z
LAST-MODIFIED:20230311T160335Z
UID:10000403-1826217000-1826220600@broadrunchurch.com
SUMMARY:Monthly Deacon Meeting
DESCRIPTION:
URL:https://broadrunchurch.com/event/monthly-deacon-meeting/2027-11-14/
LOCATION:Fellowship Hall\, 675 Broad Run Rd.\, Jane Lew\, WV\, 26378
END:VEVENT
BEGIN:VEVENT
DTSTART;TZID=America/New_York:20271212T183000
DTEND;TZID=America/New_York:20271212T193000
DTSTAMP:20260423T181220
CREATED:20230311T160335Z
LAST-MODIFIED:20230311T160335Z
UID:10000404-1828636200-1828639800@broadrunchurch.com
SUMMARY:Monthly Deacon Meeting
DESCRIPTION:
URL:https://broadrunchurch.com/event/monthly-deacon-meeting/2027-12-12/
LOCATION:Fellowship Hall\, 675 Broad Run Rd.\, Jane Lew\, WV\, 26378
END:VEVENT
BEGIN:VEVENT
DTSTART;TZID=America/New_York:20280109T183000
DTEND;TZID=America/New_York:20280109T193000
DTSTAMP:20260423T181220
CREATED:20230311T160335Z
LAST-MODIFIED:20230311T160335Z
UID:10000405-1831055400-1831059000@broadrunchurch.com
SUMMARY:Monthly Deacon Meeting
DESCRIPTION:
URL:https://broadrunchurch.com/event/monthly-deacon-meeting/2028-01-09/
LOCATION:Fellowship Hall\, 675 Broad Run Rd.\, Jane Lew\, WV\, 26378
END:VEVENT
BEGIN:VEVENT
DTSTART;TZID=America/New_York:20280213T183000
DTEND;TZID=America/New_York:20280213T193000
DTSTAMP:20260423T181220
CREATED:20230311T160335Z
LAST-MODIFIED:20230311T160335Z
UID:10000406-1834079400-1834083000@broadrunchurch.com
SUMMARY:Monthly Deacon Meeting
DESCRIPTION:
URL:https://broadrunchurch.com/event/monthly-deacon-meeting/2028-02-13/
LOCATION:Fellowship Hall\, 675 Broad Run Rd.\, Jane Lew\, WV\, 26378
END:VEVENT
BEGIN:VEVENT
DTSTART;TZID=America/New_York:20280312T183000
DTEND;TZID=America/New_York:20280312T193000
DTSTAMP:20260423T181220
CREATED:20230311T160335Z
LAST-MODIFIED:20230311T160335Z
UID:10000795-1836498600-1836502200@broadrunchurch.com
SUMMARY:Monthly Deacon Meeting
DESCRIPTION:
URL:https://broadrunchurch.com/event/monthly-deacon-meeting/2028-03-12/
LOCATION:Fellowship Hall\, 675 Broad Run Rd.\, Jane Lew\, WV\, 26378
END:VEVENT
BEGIN:VEVENT
DTSTART;TZID=America/New_York:20280409T183000
DTEND;TZID=America/New_York:20280409T193000
DTSTAMP:20260423T181220
CREATED:20230311T160335Z
LAST-MODIFIED:20230311T160335Z
UID:10000810-1838917800-1838921400@broadrunchurch.com
SUMMARY:Monthly Deacon Meeting
DESCRIPTION:
URL:https://broadrunchurch.com/event/monthly-deacon-meeting/2028-04-09/
LOCATION:Fellowship Hall\, 675 Broad Run Rd.\, Jane Lew\, WV\, 26378
END:VEVENT
END:VCALENDAR