BEGIN:VCALENDAR
VERSION:2.0
PRODID:-//Broad Run Baptist Church - ECPv6.15.20//NONSGML v1.0//EN
CALSCALE:GREGORIAN
METHOD:PUBLISH
X-WR-CALNAME:Broad Run Baptist Church
X-ORIGINAL-URL:https://broadrunchurch.com
X-WR-CALDESC:Events for Broad Run Baptist Church
REFRESH-INTERVAL;VALUE=DURATION:PT1H
X-Robots-Tag:noindex
X-PUBLISHED-TTL:PT1H
BEGIN:VTIMEZONE
TZID:America/New_York
BEGIN:DAYLIGHT
TZOFFSETFROM:-0500
TZOFFSETTO:-0400
TZNAME:EDT
DTSTART:20250309T070000
END:DAYLIGHT
BEGIN:STANDARD
TZOFFSETFROM:-0400
TZOFFSETTO:-0500
TZNAME:EST
DTSTART:20251102T060000
END:STANDARD
BEGIN:DAYLIGHT
TZOFFSETFROM:-0500
TZOFFSETTO:-0400
TZNAME:EDT
DTSTART:20260308T070000
END:DAYLIGHT
BEGIN:STANDARD
TZOFFSETFROM:-0400
TZOFFSETTO:-0500
TZNAME:EST
DTSTART:20261101T060000
END:STANDARD
BEGIN:DAYLIGHT
TZOFFSETFROM:-0500
TZOFFSETTO:-0400
TZNAME:EDT
DTSTART:20270314T070000
END:DAYLIGHT
BEGIN:STANDARD
TZOFFSETFROM:-0400
TZOFFSETTO:-0500
TZNAME:EST
DTSTART:20271107T060000
END:STANDARD
END:VTIMEZONE
BEGIN:VEVENT
DTSTART;TZID=America/New_York:20260401T173000
DTEND;TZID=America/New_York:20260401T183000
DTSTAMP:20260424T030258
CREATED:20240711T025502Z
LAST-MODIFIED:20240711T030004Z
UID:10002293-1775064600-1775068200@broadrunchurch.com
SUMMARY:Choir Practice
DESCRIPTION:Join us for Choir Practice at 5:30pm on Wednesdays.
URL:https://broadrunchurch.com/event/choir-practice-2/2026-04-01/
LOCATION:Sancturary\, 675 Broad Run Rd.\, Jane Lew\, WV\, 26378
ATTACH;FMTTYPE=image/png:https://broadrunchurch.com/wp-content/uploads/2023/11/Join-the-Broad-Run-Choir.png
END:VEVENT
BEGIN:VEVENT
DTSTART;TZID=America/New_York:20260329T101500
DTEND;TZID=America/New_York:20260329T113000
DTSTAMP:20260424T030258
CREATED:20230311T152547Z
LAST-MODIFIED:20230811T011116Z
UID:10001783-1774779300-1774783800@broadrunchurch.com
SUMMARY:Worship Service
DESCRIPTION:Join us in the sanctuary each Sunday Morning for worship service!
URL:https://broadrunchurch.com/event/worship/2026-03-29/
LOCATION:Sancturary\, 675 Broad Run Rd.\, Jane Lew\, WV\, 26378
CATEGORIES:Worship
ATTACH;FMTTYPE=image/jpeg:https://broadrunchurch.com/wp-content/uploads/2023/03/IMG_8537.jpg
END:VEVENT
BEGIN:VEVENT
DTSTART;TZID=America/New_York:20260329T090000
DTEND;TZID=America/New_York:20260329T100000
DTSTAMP:20260424T030258
CREATED:20230806T131500Z
LAST-MODIFIED:20230811T010019Z
UID:10001501-1774774800-1774778400@broadrunchurch.com
SUMMARY:Sunday School
DESCRIPTION:Sunday School is offered Sunday mornings at 9:00am. Classes are available from Babies to Adults. The Nursery through 5th grade classes are held downstairs in the New Annex. The Middle School class and H.O.P.E. (adult) are held upstairs in the New Annex. The Beeghley Class (adult) is held in the Sanctuary. \nThe children’s classes utilize David C Cook curriculum\, the H.O.P.E. class uses The Gospel Project from Lifeway\, and the Beeghley Class uses the Bible Expositor and Illuminator from Union Gospel Press. Participants are provided the necessary curriculum and are encouraged to bring a Bible but plenty are available if needed.
URL:https://broadrunchurch.com/event/sunday-school/2026-03-29/
LOCATION:Fellowship Hall\, 675 Broad Run Rd.\, Jane Lew\, WV\, 26378
CATEGORIES:Children,Christian Education
ATTACH;FMTTYPE=image/jpeg:https://broadrunchurch.com/wp-content/uploads/2022/01/kids.jpg
ORGANIZER;CN="Christian Ed Board":MAILTO:church675@outlook.com
END:VEVENT
BEGIN:VEVENT
DTSTART;TZID=America/New_York:20260325T183000
DTEND;TZID=America/New_York:20260325T193000
DTSTAMP:20260424T030258
CREATED:20231022T145909Z
LAST-MODIFIED:20231119T152625Z
UID:10002032-1774463400-1774467000@broadrunchurch.com
SUMMARY:Bible Study
DESCRIPTION:
URL:https://broadrunchurch.com/event/bible-study-2/2026-03-25/
LOCATION:Fellowship Hall\, 675 Broad Run Rd.\, Jane Lew\, WV\, 26378
CATEGORIES:Christian Education,Wednesday Bible Study
ATTACH;FMTTYPE=image/jpeg:https://broadrunchurch.com/wp-content/uploads/2023/02/pray-scaled.jpg
END:VEVENT
BEGIN:VEVENT
DTSTART;TZID=America/New_York:20260325T173000
DTEND;TZID=America/New_York:20260325T183000
DTSTAMP:20260424T030258
CREATED:20240711T025502Z
LAST-MODIFIED:20240711T030004Z
UID:10002292-1774459800-1774463400@broadrunchurch.com
SUMMARY:Choir Practice
DESCRIPTION:Join us for Choir Practice at 5:30pm on Wednesdays.
URL:https://broadrunchurch.com/event/choir-practice-2/2026-03-25/
LOCATION:Sancturary\, 675 Broad Run Rd.\, Jane Lew\, WV\, 26378
ATTACH;FMTTYPE=image/png:https://broadrunchurch.com/wp-content/uploads/2023/11/Join-the-Broad-Run-Choir.png
END:VEVENT
BEGIN:VEVENT
DTSTART;TZID=America/New_York:20260322T101500
DTEND;TZID=America/New_York:20260322T113000
DTSTAMP:20260424T030258
CREATED:20230311T152547Z
LAST-MODIFIED:20230811T011116Z
UID:10001782-1774174500-1774179000@broadrunchurch.com
SUMMARY:Worship Service
DESCRIPTION:Join us in the sanctuary each Sunday Morning for worship service!
URL:https://broadrunchurch.com/event/worship/2026-03-22/
LOCATION:Sancturary\, 675 Broad Run Rd.\, Jane Lew\, WV\, 26378
CATEGORIES:Worship
ATTACH;FMTTYPE=image/jpeg:https://broadrunchurch.com/wp-content/uploads/2023/03/IMG_8537.jpg
END:VEVENT
BEGIN:VEVENT
DTSTART;TZID=America/New_York:20260322T090000
DTEND;TZID=America/New_York:20260322T100000
DTSTAMP:20260424T030258
CREATED:20230806T131500Z
LAST-MODIFIED:20230811T010019Z
UID:10001500-1774170000-1774173600@broadrunchurch.com
SUMMARY:Sunday School
DESCRIPTION:Sunday School is offered Sunday mornings at 9:00am. Classes are available from Babies to Adults. The Nursery through 5th grade classes are held downstairs in the New Annex. The Middle School class and H.O.P.E. (adult) are held upstairs in the New Annex. The Beeghley Class (adult) is held in the Sanctuary. \nThe children’s classes utilize David C Cook curriculum\, the H.O.P.E. class uses The Gospel Project from Lifeway\, and the Beeghley Class uses the Bible Expositor and Illuminator from Union Gospel Press. Participants are provided the necessary curriculum and are encouraged to bring a Bible but plenty are available if needed.
URL:https://broadrunchurch.com/event/sunday-school/2026-03-22/
LOCATION:Fellowship Hall\, 675 Broad Run Rd.\, Jane Lew\, WV\, 26378
CATEGORIES:Children,Christian Education
ATTACH;FMTTYPE=image/jpeg:https://broadrunchurch.com/wp-content/uploads/2022/01/kids.jpg
ORGANIZER;CN="Christian Ed Board":MAILTO:church675@outlook.com
END:VEVENT
BEGIN:VEVENT
DTSTART;TZID=America/New_York:20260318T183000
DTEND;TZID=America/New_York:20260318T193000
DTSTAMP:20260424T030258
CREATED:20231022T145909Z
LAST-MODIFIED:20231119T152625Z
UID:10002031-1773858600-1773862200@broadrunchurch.com
SUMMARY:Bible Study
DESCRIPTION:
URL:https://broadrunchurch.com/event/bible-study-2/2026-03-18/
LOCATION:Fellowship Hall\, 675 Broad Run Rd.\, Jane Lew\, WV\, 26378
CATEGORIES:Christian Education,Wednesday Bible Study
ATTACH;FMTTYPE=image/jpeg:https://broadrunchurch.com/wp-content/uploads/2023/02/pray-scaled.jpg
END:VEVENT
BEGIN:VEVENT
DTSTART;TZID=America/New_York:20260318T173000
DTEND;TZID=America/New_York:20260318T183000
DTSTAMP:20260424T030258
CREATED:20240711T025502Z
LAST-MODIFIED:20240711T030004Z
UID:10002291-1773855000-1773858600@broadrunchurch.com
SUMMARY:Choir Practice
DESCRIPTION:Join us for Choir Practice at 5:30pm on Wednesdays.
URL:https://broadrunchurch.com/event/choir-practice-2/2026-03-18/
LOCATION:Sancturary\, 675 Broad Run Rd.\, Jane Lew\, WV\, 26378
ATTACH;FMTTYPE=image/png:https://broadrunchurch.com/wp-content/uploads/2023/11/Join-the-Broad-Run-Choir.png
END:VEVENT
BEGIN:VEVENT
DTSTART;TZID=America/New_York:20260315T101500
DTEND;TZID=America/New_York:20260315T113000
DTSTAMP:20260424T030258
CREATED:20230311T152547Z
LAST-MODIFIED:20230811T011116Z
UID:10001781-1773569700-1773574200@broadrunchurch.com
SUMMARY:Worship Service
DESCRIPTION:Join us in the sanctuary each Sunday Morning for worship service!
URL:https://broadrunchurch.com/event/worship/2026-03-15/
LOCATION:Sancturary\, 675 Broad Run Rd.\, Jane Lew\, WV\, 26378
CATEGORIES:Worship
ATTACH;FMTTYPE=image/jpeg:https://broadrunchurch.com/wp-content/uploads/2023/03/IMG_8537.jpg
END:VEVENT
BEGIN:VEVENT
DTSTART;TZID=America/New_York:20260315T090000
DTEND;TZID=America/New_York:20260315T100000
DTSTAMP:20260424T030258
CREATED:20230806T131500Z
LAST-MODIFIED:20230811T010019Z
UID:10001499-1773565200-1773568800@broadrunchurch.com
SUMMARY:Sunday School
DESCRIPTION:Sunday School is offered Sunday mornings at 9:00am. Classes are available from Babies to Adults. The Nursery through 5th grade classes are held downstairs in the New Annex. The Middle School class and H.O.P.E. (adult) are held upstairs in the New Annex. The Beeghley Class (adult) is held in the Sanctuary. \nThe children’s classes utilize David C Cook curriculum\, the H.O.P.E. class uses The Gospel Project from Lifeway\, and the Beeghley Class uses the Bible Expositor and Illuminator from Union Gospel Press. Participants are provided the necessary curriculum and are encouraged to bring a Bible but plenty are available if needed.
URL:https://broadrunchurch.com/event/sunday-school/2026-03-15/
LOCATION:Fellowship Hall\, 675 Broad Run Rd.\, Jane Lew\, WV\, 26378
CATEGORIES:Children,Christian Education
ATTACH;FMTTYPE=image/jpeg:https://broadrunchurch.com/wp-content/uploads/2022/01/kids.jpg
ORGANIZER;CN="Christian Ed Board":MAILTO:church675@outlook.com
END:VEVENT
BEGIN:VEVENT
DTSTART;TZID=America/New_York:20260311T183000
DTEND;TZID=America/New_York:20260311T193000
DTSTAMP:20260424T030258
CREATED:20231022T145909Z
LAST-MODIFIED:20231119T152625Z
UID:10002030-1773253800-1773257400@broadrunchurch.com
SUMMARY:Bible Study
DESCRIPTION:
URL:https://broadrunchurch.com/event/bible-study-2/2026-03-11/
LOCATION:Fellowship Hall\, 675 Broad Run Rd.\, Jane Lew\, WV\, 26378
CATEGORIES:Christian Education,Wednesday Bible Study
ATTACH;FMTTYPE=image/jpeg:https://broadrunchurch.com/wp-content/uploads/2023/02/pray-scaled.jpg
END:VEVENT
BEGIN:VEVENT
DTSTART;TZID=America/New_York:20260311T173000
DTEND;TZID=America/New_York:20260311T183000
DTSTAMP:20260424T030258
CREATED:20240711T025502Z
LAST-MODIFIED:20240711T030004Z
UID:10002290-1773250200-1773253800@broadrunchurch.com
SUMMARY:Choir Practice
DESCRIPTION:Join us for Choir Practice at 5:30pm on Wednesdays.
URL:https://broadrunchurch.com/event/choir-practice-2/2026-03-11/
LOCATION:Sancturary\, 675 Broad Run Rd.\, Jane Lew\, WV\, 26378
ATTACH;FMTTYPE=image/png:https://broadrunchurch.com/wp-content/uploads/2023/11/Join-the-Broad-Run-Choir.png
END:VEVENT
BEGIN:VEVENT
DTSTART;TZID=America/New_York:20260308T193000
DTEND;TZID=America/New_York:20260308T203000
DTSTAMP:20260424T030258
CREATED:20230311T152645Z
LAST-MODIFIED:20230311T160156Z
UID:10000323-1772998200-1773001800@broadrunchurch.com
SUMMARY:Monthly Business Meeting
DESCRIPTION:
URL:https://broadrunchurch.com/event/business-meeting/2026-03-08/
LOCATION:Sancturary\, 675 Broad Run Rd.\, Jane Lew\, WV\, 26378
END:VEVENT
BEGIN:VEVENT
DTSTART;TZID=America/New_York:20260308T183000
DTEND;TZID=America/New_York:20260308T193000
DTSTAMP:20260424T030258
CREATED:20230311T160335Z
LAST-MODIFIED:20230311T160335Z
UID:10000383-1772994600-1772998200@broadrunchurch.com
SUMMARY:Monthly Deacon Meeting
DESCRIPTION:
URL:https://broadrunchurch.com/event/monthly-deacon-meeting/2026-03-08/
LOCATION:Fellowship Hall\, 675 Broad Run Rd.\, Jane Lew\, WV\, 26378
END:VEVENT
BEGIN:VEVENT
DTSTART;TZID=America/New_York:20260308T173000
DTEND;TZID=America/New_York:20260308T183000
DTSTAMP:20260424T030258
CREATED:20230311T160740Z
LAST-MODIFIED:20230311T160917Z
UID:10000503-1772991000-1772994600@broadrunchurch.com
SUMMARY:Monthly Christian Education Board Meeting
DESCRIPTION:
URL:https://broadrunchurch.com/event/ceb/2026-03-08/
LOCATION:Fellowship Hall\, 675 Broad Run Rd.\, Jane Lew\, WV\, 26378
CATEGORIES:Christian Education
END:VEVENT
BEGIN:VEVENT
DTSTART;TZID=America/New_York:20260308T170000
DTEND;TZID=America/New_York:20260308T180000
DTSTAMP:20260424T030258
CREATED:20230311T160547Z
LAST-MODIFIED:20230311T160547Z
UID:10000443-1772989200-1772992800@broadrunchurch.com
SUMMARY:Monthly Mission Board Meeting
DESCRIPTION:
URL:https://broadrunchurch.com/event/monthly-mission-board-meeting/2026-03-08/
LOCATION:WV
END:VEVENT
BEGIN:VEVENT
DTSTART;TZID=America/New_York:20260308T101500
DTEND;TZID=America/New_York:20260308T113000
DTSTAMP:20260424T030258
CREATED:20230311T152547Z
LAST-MODIFIED:20230811T011116Z
UID:10001780-1772964900-1772969400@broadrunchurch.com
SUMMARY:Worship Service
DESCRIPTION:Join us in the sanctuary each Sunday Morning for worship service!
URL:https://broadrunchurch.com/event/worship/2026-03-08/
LOCATION:Sancturary\, 675 Broad Run Rd.\, Jane Lew\, WV\, 26378
CATEGORIES:Worship
ATTACH;FMTTYPE=image/jpeg:https://broadrunchurch.com/wp-content/uploads/2023/03/IMG_8537.jpg
END:VEVENT
BEGIN:VEVENT
DTSTART;TZID=America/New_York:20260308T090000
DTEND;TZID=America/New_York:20260308T100000
DTSTAMP:20260424T030258
CREATED:20230806T131500Z
LAST-MODIFIED:20230811T010019Z
UID:10001498-1772960400-1772964000@broadrunchurch.com
SUMMARY:Sunday School
DESCRIPTION:Sunday School is offered Sunday mornings at 9:00am. Classes are available from Babies to Adults. The Nursery through 5th grade classes are held downstairs in the New Annex. The Middle School class and H.O.P.E. (adult) are held upstairs in the New Annex. The Beeghley Class (adult) is held in the Sanctuary. \nThe children’s classes utilize David C Cook curriculum\, the H.O.P.E. class uses The Gospel Project from Lifeway\, and the Beeghley Class uses the Bible Expositor and Illuminator from Union Gospel Press. Participants are provided the necessary curriculum and are encouraged to bring a Bible but plenty are available if needed.
URL:https://broadrunchurch.com/event/sunday-school/2026-03-08/
LOCATION:Fellowship Hall\, 675 Broad Run Rd.\, Jane Lew\, WV\, 26378
CATEGORIES:Children,Christian Education
ATTACH;FMTTYPE=image/jpeg:https://broadrunchurch.com/wp-content/uploads/2022/01/kids.jpg
ORGANIZER;CN="Christian Ed Board":MAILTO:church675@outlook.com
END:VEVENT
BEGIN:VEVENT
DTSTART;TZID=America/New_York:20260304T183000
DTEND;TZID=America/New_York:20260304T193000
DTSTAMP:20260424T030258
CREATED:20231022T145909Z
LAST-MODIFIED:20231119T152625Z
UID:10002029-1772649000-1772652600@broadrunchurch.com
SUMMARY:Bible Study
DESCRIPTION:
URL:https://broadrunchurch.com/event/bible-study-2/2026-03-04/
LOCATION:Fellowship Hall\, 675 Broad Run Rd.\, Jane Lew\, WV\, 26378
CATEGORIES:Christian Education,Wednesday Bible Study
ATTACH;FMTTYPE=image/jpeg:https://broadrunchurch.com/wp-content/uploads/2023/02/pray-scaled.jpg
END:VEVENT
BEGIN:VEVENT
DTSTART;TZID=America/New_York:20260304T173000
DTEND;TZID=America/New_York:20260304T183000
DTSTAMP:20260424T030258
CREATED:20240711T025502Z
LAST-MODIFIED:20240711T030004Z
UID:10002289-1772645400-1772649000@broadrunchurch.com
SUMMARY:Choir Practice
DESCRIPTION:Join us for Choir Practice at 5:30pm on Wednesdays.
URL:https://broadrunchurch.com/event/choir-practice-2/2026-03-04/
LOCATION:Sancturary\, 675 Broad Run Rd.\, Jane Lew\, WV\, 26378
ATTACH;FMTTYPE=image/png:https://broadrunchurch.com/wp-content/uploads/2023/11/Join-the-Broad-Run-Choir.png
END:VEVENT
BEGIN:VEVENT
DTSTART;TZID=America/New_York:20260301T101500
DTEND;TZID=America/New_York:20260301T113000
DTSTAMP:20260424T030258
CREATED:20230311T152547Z
LAST-MODIFIED:20230811T011116Z
UID:10001779-1772360100-1772364600@broadrunchurch.com
SUMMARY:Worship Service
DESCRIPTION:Join us in the sanctuary each Sunday Morning for worship service!
URL:https://broadrunchurch.com/event/worship/2026-03-01/
LOCATION:Sancturary\, 675 Broad Run Rd.\, Jane Lew\, WV\, 26378
CATEGORIES:Worship
ATTACH;FMTTYPE=image/jpeg:https://broadrunchurch.com/wp-content/uploads/2023/03/IMG_8537.jpg
END:VEVENT
BEGIN:VEVENT
DTSTART;TZID=America/New_York:20260301T090000
DTEND;TZID=America/New_York:20260301T100000
DTSTAMP:20260424T030258
CREATED:20230806T131500Z
LAST-MODIFIED:20230811T010019Z
UID:10001497-1772355600-1772359200@broadrunchurch.com
SUMMARY:Sunday School
DESCRIPTION:Sunday School is offered Sunday mornings at 9:00am. Classes are available from Babies to Adults. The Nursery through 5th grade classes are held downstairs in the New Annex. The Middle School class and H.O.P.E. (adult) are held upstairs in the New Annex. The Beeghley Class (adult) is held in the Sanctuary. \nThe children’s classes utilize David C Cook curriculum\, the H.O.P.E. class uses The Gospel Project from Lifeway\, and the Beeghley Class uses the Bible Expositor and Illuminator from Union Gospel Press. Participants are provided the necessary curriculum and are encouraged to bring a Bible but plenty are available if needed.
URL:https://broadrunchurch.com/event/sunday-school/2026-03-01/
LOCATION:Fellowship Hall\, 675 Broad Run Rd.\, Jane Lew\, WV\, 26378
CATEGORIES:Children,Christian Education
ATTACH;FMTTYPE=image/jpeg:https://broadrunchurch.com/wp-content/uploads/2022/01/kids.jpg
ORGANIZER;CN="Christian Ed Board":MAILTO:church675@outlook.com
END:VEVENT
BEGIN:VEVENT
DTSTART;TZID=America/New_York:20260301T083000
DTEND;TZID=America/New_York:20260301T090000
DTSTAMP:20260424T030258
CREATED:20240219T171255Z
LAST-MODIFIED:20240219T171255Z
UID:10002469-1772353800-1772355600@broadrunchurch.com
SUMMARY:Sunday School Breakfast
DESCRIPTION:
URL:https://broadrunchurch.com/event/sunday-school-breakfast/2026-03-01/
LOCATION:Fellowship Hall\, 675 Broad Run Rd.\, Jane Lew\, WV\, 26378
CATEGORIES:Christian Education,Dinner
ORGANIZER;CN="Christian Ed Board":MAILTO:church675@outlook.com
END:VEVENT
BEGIN:VEVENT
DTSTART;VALUE=DATE:20260227
DTEND;VALUE=DATE:20260301
DTSTAMP:20260424T030258
CREATED:20251205T001802Z
LAST-MODIFIED:20251205T022401Z
UID:10002591-1772150400-1772323199@broadrunchurch.com
SUMMARY:Even If: Broad Run Baptist Church Women's Conference '26
DESCRIPTION:Broad Run Baptist Church invites you to step away from the noise and join us for our annual women’s retreat—an intentional time of reflection\, rest\, and spiritual renewal centered on Daniel 3:18. Together\, we will learn what it means to declare\, “Even if God does not…” and still choose trust\, surrender\, and steadfast faith. Come ready to hear His voice\, quiet your spirit\, and be strengthened by His presence. \nRegister HERE\nEvent Details: \nDates: February 27-28\, 2026 \nTime: Registration begins at 4:00 PM in the lobby of the lodge. \nDress: Casual \nLocation: Stonewall Resort \nCost: $135 Full Conference Quad Room. See Registration for breakdown and options \nCheck-In: Opens at 4:00 PM; overnight guests must provide a credit card for incidentals\, per Stonewall Resort policy. \nWhat to Expect: \nThis year’s conference will guide us into a deeper understanding of unwavering faith through heartfelt workshops\, soul-stirring messages\, and meaningful fellowship\, we will explore what it means to trust God fully—even if outcomes are uncertain. Prepare for moments of joy\, reflection\, connection\, and renewed encouragement as we seek to strengthen our hearts and walk boldly in steadfast faith. \nRegistration Information: \nTo confirm your attendance\, please register HERE. \nEarly Bird discounts are available for those who register by December 15\,2025. Registration will close on January 9\, 2026. Unfortunately\, we will not be able to register guests after that date; please do not ask. \nAdditional Reminders: \nPlease bring your Bible\, a notebook\, and a refillable water bottle (refilling stations available). Friday dinner and Saturday breakfast and lunch will be provided. \nWe are thrilled at the opportunity to welcome you to this special gathering. Your participation will surely enrich the experience for everyone as we come together in unity to seek God’s presence and purpose for our lives. \nIf you have any questions or need assistance with registration\, please contact Brenda Garrett at 304-871-0026. \nWe hope to see you at there as we boldly declare:“Even If… we will trust Him.”
URL:https://broadrunchurch.com/event/evenif/
LOCATION:Stonewall Resort\, 940 Resort Dr.\, Roanoke\, WV\, 26447\, United States
CATEGORIES:Christian Education,Featured
ATTACH;FMTTYPE=image/png:https://broadrunchurch.com/wp-content/uploads/2025/12/Flyer.png
ORGANIZER;CN="Christian Ed Board":MAILTO:church675@outlook.com
END:VEVENT
BEGIN:VEVENT
DTSTART;TZID=America/New_York:20260225T183000
DTEND;TZID=America/New_York:20260225T193000
DTSTAMP:20260424T030258
CREATED:20231022T145909Z
LAST-MODIFIED:20231119T152625Z
UID:10002028-1772044200-1772047800@broadrunchurch.com
SUMMARY:Bible Study
DESCRIPTION:
URL:https://broadrunchurch.com/event/bible-study-2/2026-02-25/
LOCATION:Fellowship Hall\, 675 Broad Run Rd.\, Jane Lew\, WV\, 26378
CATEGORIES:Christian Education,Wednesday Bible Study
ATTACH;FMTTYPE=image/jpeg:https://broadrunchurch.com/wp-content/uploads/2023/02/pray-scaled.jpg
END:VEVENT
BEGIN:VEVENT
DTSTART;TZID=America/New_York:20260225T173000
DTEND;TZID=America/New_York:20260225T183000
DTSTAMP:20260424T030258
CREATED:20240711T025502Z
LAST-MODIFIED:20240711T030004Z
UID:10002288-1772040600-1772044200@broadrunchurch.com
SUMMARY:Choir Practice
DESCRIPTION:Join us for Choir Practice at 5:30pm on Wednesdays.
URL:https://broadrunchurch.com/event/choir-practice-2/2026-02-25/
LOCATION:Sancturary\, 675 Broad Run Rd.\, Jane Lew\, WV\, 26378
ATTACH;FMTTYPE=image/png:https://broadrunchurch.com/wp-content/uploads/2023/11/Join-the-Broad-Run-Choir.png
END:VEVENT
BEGIN:VEVENT
DTSTART;TZID=America/New_York:20260222T101500
DTEND;TZID=America/New_York:20260222T113000
DTSTAMP:20260424T030258
CREATED:20230311T152547Z
LAST-MODIFIED:20230811T011116Z
UID:10001778-1771755300-1771759800@broadrunchurch.com
SUMMARY:Worship Service
DESCRIPTION:Join us in the sanctuary each Sunday Morning for worship service!
URL:https://broadrunchurch.com/event/worship/2026-02-22/
LOCATION:Sancturary\, 675 Broad Run Rd.\, Jane Lew\, WV\, 26378
CATEGORIES:Worship
ATTACH;FMTTYPE=image/jpeg:https://broadrunchurch.com/wp-content/uploads/2023/03/IMG_8537.jpg
END:VEVENT
BEGIN:VEVENT
DTSTART;TZID=America/New_York:20260222T090000
DTEND;TZID=America/New_York:20260222T100000
DTSTAMP:20260424T030258
CREATED:20230806T131500Z
LAST-MODIFIED:20230811T010019Z
UID:10001496-1771750800-1771754400@broadrunchurch.com
SUMMARY:Sunday School
DESCRIPTION:Sunday School is offered Sunday mornings at 9:00am. Classes are available from Babies to Adults. The Nursery through 5th grade classes are held downstairs in the New Annex. The Middle School class and H.O.P.E. (adult) are held upstairs in the New Annex. The Beeghley Class (adult) is held in the Sanctuary. \nThe children’s classes utilize David C Cook curriculum\, the H.O.P.E. class uses The Gospel Project from Lifeway\, and the Beeghley Class uses the Bible Expositor and Illuminator from Union Gospel Press. Participants are provided the necessary curriculum and are encouraged to bring a Bible but plenty are available if needed.
URL:https://broadrunchurch.com/event/sunday-school/2026-02-22/
LOCATION:Fellowship Hall\, 675 Broad Run Rd.\, Jane Lew\, WV\, 26378
CATEGORIES:Children,Christian Education
ATTACH;FMTTYPE=image/jpeg:https://broadrunchurch.com/wp-content/uploads/2022/01/kids.jpg
ORGANIZER;CN="Christian Ed Board":MAILTO:church675@outlook.com
END:VEVENT
BEGIN:VEVENT
DTSTART;TZID=America/New_York:20260218T183000
DTEND;TZID=America/New_York:20260218T193000
DTSTAMP:20260424T030258
CREATED:20231022T145909Z
LAST-MODIFIED:20231119T152625Z
UID:10002027-1771439400-1771443000@broadrunchurch.com
SUMMARY:Bible Study
DESCRIPTION:
URL:https://broadrunchurch.com/event/bible-study-2/2026-02-18/
LOCATION:Fellowship Hall\, 675 Broad Run Rd.\, Jane Lew\, WV\, 26378
CATEGORIES:Christian Education,Wednesday Bible Study
ATTACH;FMTTYPE=image/jpeg:https://broadrunchurch.com/wp-content/uploads/2023/02/pray-scaled.jpg
END:VEVENT
END:VCALENDAR