BEGIN:VCALENDAR
VERSION:2.0
PRODID:-//Broad Run Baptist Church - ECPv6.15.20//NONSGML v1.0//EN
CALSCALE:GREGORIAN
METHOD:PUBLISH
X-ORIGINAL-URL:https://broadrunchurch.com
X-WR-CALDESC:Events for Broad Run Baptist Church
REFRESH-INTERVAL;VALUE=DURATION:PT1H
X-Robots-Tag:noindex
X-PUBLISHED-TTL:PT1H
BEGIN:VTIMEZONE
TZID:America/New_York
BEGIN:DAYLIGHT
TZOFFSETFROM:-0500
TZOFFSETTO:-0400
TZNAME:EDT
DTSTART:20250309T070000
END:DAYLIGHT
BEGIN:STANDARD
TZOFFSETFROM:-0400
TZOFFSETTO:-0500
TZNAME:EST
DTSTART:20251102T060000
END:STANDARD
BEGIN:DAYLIGHT
TZOFFSETFROM:-0500
TZOFFSETTO:-0400
TZNAME:EDT
DTSTART:20260308T070000
END:DAYLIGHT
BEGIN:STANDARD
TZOFFSETFROM:-0400
TZOFFSETTO:-0500
TZNAME:EST
DTSTART:20261101T060000
END:STANDARD
BEGIN:DAYLIGHT
TZOFFSETFROM:-0500
TZOFFSETTO:-0400
TZNAME:EDT
DTSTART:20270314T070000
END:DAYLIGHT
BEGIN:STANDARD
TZOFFSETFROM:-0400
TZOFFSETTO:-0500
TZNAME:EST
DTSTART:20271107T060000
END:STANDARD
BEGIN:DAYLIGHT
TZOFFSETFROM:-0500
TZOFFSETTO:-0400
TZNAME:EDT
DTSTART:20280312T070000
END:DAYLIGHT
BEGIN:STANDARD
TZOFFSETFROM:-0400
TZOFFSETTO:-0500
TZNAME:EST
DTSTART:20281105T060000
END:STANDARD
END:VTIMEZONE
BEGIN:VEVENT
DTSTART;TZID=America/New_York:20261011T101500
DTEND;TZID=America/New_York:20261011T113000
DTSTAMP:20260423T222620
CREATED:20230311T152547Z
LAST-MODIFIED:20230811T011116Z
UID:10001811-1791713700-1791718200@broadrunchurch.com
SUMMARY:Worship Service
DESCRIPTION:Join us in the sanctuary each Sunday Morning for worship service!
URL:https://broadrunchurch.com/event/worship/2026-10-11/
LOCATION:Sancturary\, 675 Broad Run Rd.\, Jane Lew\, WV\, 26378
CATEGORIES:Worship
ATTACH;FMTTYPE=image/jpeg:https://broadrunchurch.com/wp-content/uploads/2023/03/IMG_8537.jpg
END:VEVENT
BEGIN:VEVENT
DTSTART;TZID=America/New_York:20261018T101500
DTEND;TZID=America/New_York:20261018T113000
DTSTAMP:20260423T222620
CREATED:20230311T152547Z
LAST-MODIFIED:20230811T011116Z
UID:10001812-1792318500-1792323000@broadrunchurch.com
SUMMARY:Worship Service
DESCRIPTION:Join us in the sanctuary each Sunday Morning for worship service!
URL:https://broadrunchurch.com/event/worship/2026-10-18/
LOCATION:Sancturary\, 675 Broad Run Rd.\, Jane Lew\, WV\, 26378
CATEGORIES:Worship
ATTACH;FMTTYPE=image/jpeg:https://broadrunchurch.com/wp-content/uploads/2023/03/IMG_8537.jpg
END:VEVENT
BEGIN:VEVENT
DTSTART;TZID=America/New_York:20261025T101500
DTEND;TZID=America/New_York:20261025T113000
DTSTAMP:20260423T222620
CREATED:20230311T152547Z
LAST-MODIFIED:20230811T011116Z
UID:10001813-1792923300-1792927800@broadrunchurch.com
SUMMARY:Worship Service
DESCRIPTION:Join us in the sanctuary each Sunday Morning for worship service!
URL:https://broadrunchurch.com/event/worship/2026-10-25/
LOCATION:Sancturary\, 675 Broad Run Rd.\, Jane Lew\, WV\, 26378
CATEGORIES:Worship
ATTACH;FMTTYPE=image/jpeg:https://broadrunchurch.com/wp-content/uploads/2023/03/IMG_8537.jpg
END:VEVENT
BEGIN:VEVENT
DTSTART;TZID=America/New_York:20261101T101500
DTEND;TZID=America/New_York:20261101T113000
DTSTAMP:20260423T222620
CREATED:20230311T152547Z
LAST-MODIFIED:20230811T011116Z
UID:10001814-1793528100-1793532600@broadrunchurch.com
SUMMARY:Worship Service
DESCRIPTION:Join us in the sanctuary each Sunday Morning for worship service!
URL:https://broadrunchurch.com/event/worship/2026-11-01/
LOCATION:Sancturary\, 675 Broad Run Rd.\, Jane Lew\, WV\, 26378
CATEGORIES:Worship
ATTACH;FMTTYPE=image/jpeg:https://broadrunchurch.com/wp-content/uploads/2023/03/IMG_8537.jpg
END:VEVENT
BEGIN:VEVENT
DTSTART;TZID=America/New_York:20261108T101500
DTEND;TZID=America/New_York:20261108T113000
DTSTAMP:20260423T222620
CREATED:20230311T152547Z
LAST-MODIFIED:20230811T011116Z
UID:10001815-1794132900-1794137400@broadrunchurch.com
SUMMARY:Worship Service
DESCRIPTION:Join us in the sanctuary each Sunday Morning for worship service!
URL:https://broadrunchurch.com/event/worship/2026-11-08/
LOCATION:Sancturary\, 675 Broad Run Rd.\, Jane Lew\, WV\, 26378
CATEGORIES:Worship
ATTACH;FMTTYPE=image/jpeg:https://broadrunchurch.com/wp-content/uploads/2023/03/IMG_8537.jpg
END:VEVENT
BEGIN:VEVENT
DTSTART;TZID=America/New_York:20261115T101500
DTEND;TZID=America/New_York:20261115T113000
DTSTAMP:20260423T222620
CREATED:20230311T152547Z
LAST-MODIFIED:20230811T011116Z
UID:10001816-1794737700-1794742200@broadrunchurch.com
SUMMARY:Worship Service
DESCRIPTION:Join us in the sanctuary each Sunday Morning for worship service!
URL:https://broadrunchurch.com/event/worship/2026-11-15/
LOCATION:Sancturary\, 675 Broad Run Rd.\, Jane Lew\, WV\, 26378
CATEGORIES:Worship
ATTACH;FMTTYPE=image/jpeg:https://broadrunchurch.com/wp-content/uploads/2023/03/IMG_8537.jpg
END:VEVENT
BEGIN:VEVENT
DTSTART;TZID=America/New_York:20261122T101500
DTEND;TZID=America/New_York:20261122T113000
DTSTAMP:20260423T222620
CREATED:20230311T152547Z
LAST-MODIFIED:20230811T011116Z
UID:10001817-1795342500-1795347000@broadrunchurch.com
SUMMARY:Worship Service
DESCRIPTION:Join us in the sanctuary each Sunday Morning for worship service!
URL:https://broadrunchurch.com/event/worship/2026-11-22/
LOCATION:Sancturary\, 675 Broad Run Rd.\, Jane Lew\, WV\, 26378
CATEGORIES:Worship
ATTACH;FMTTYPE=image/jpeg:https://broadrunchurch.com/wp-content/uploads/2023/03/IMG_8537.jpg
END:VEVENT
BEGIN:VEVENT
DTSTART;TZID=America/New_York:20261129T101500
DTEND;TZID=America/New_York:20261129T113000
DTSTAMP:20260423T222620
CREATED:20230311T152547Z
LAST-MODIFIED:20230811T011116Z
UID:10001818-1795947300-1795951800@broadrunchurch.com
SUMMARY:Worship Service
DESCRIPTION:Join us in the sanctuary each Sunday Morning for worship service!
URL:https://broadrunchurch.com/event/worship/2026-11-29/
LOCATION:Sancturary\, 675 Broad Run Rd.\, Jane Lew\, WV\, 26378
CATEGORIES:Worship
ATTACH;FMTTYPE=image/jpeg:https://broadrunchurch.com/wp-content/uploads/2023/03/IMG_8537.jpg
END:VEVENT
BEGIN:VEVENT
DTSTART;TZID=America/New_York:20261206T101500
DTEND;TZID=America/New_York:20261206T113000
DTSTAMP:20260423T222620
CREATED:20230311T152547Z
LAST-MODIFIED:20230811T011116Z
UID:10001819-1796552100-1796556600@broadrunchurch.com
SUMMARY:Worship Service
DESCRIPTION:Join us in the sanctuary each Sunday Morning for worship service!
URL:https://broadrunchurch.com/event/worship/2026-12-06/
LOCATION:Sancturary\, 675 Broad Run Rd.\, Jane Lew\, WV\, 26378
CATEGORIES:Worship
ATTACH;FMTTYPE=image/jpeg:https://broadrunchurch.com/wp-content/uploads/2023/03/IMG_8537.jpg
END:VEVENT
BEGIN:VEVENT
DTSTART;TZID=America/New_York:20261213T101500
DTEND;TZID=America/New_York:20261213T113000
DTSTAMP:20260423T222620
CREATED:20230311T152547Z
LAST-MODIFIED:20230811T011116Z
UID:10001820-1797156900-1797161400@broadrunchurch.com
SUMMARY:Worship Service
DESCRIPTION:Join us in the sanctuary each Sunday Morning for worship service!
URL:https://broadrunchurch.com/event/worship/2026-12-13/
LOCATION:Sancturary\, 675 Broad Run Rd.\, Jane Lew\, WV\, 26378
CATEGORIES:Worship
ATTACH;FMTTYPE=image/jpeg:https://broadrunchurch.com/wp-content/uploads/2023/03/IMG_8537.jpg
END:VEVENT
BEGIN:VEVENT
DTSTART;TZID=America/New_York:20261220T101500
DTEND;TZID=America/New_York:20261220T113000
DTSTAMP:20260423T222620
CREATED:20230311T152547Z
LAST-MODIFIED:20230811T011116Z
UID:10001821-1797761700-1797766200@broadrunchurch.com
SUMMARY:Worship Service
DESCRIPTION:Join us in the sanctuary each Sunday Morning for worship service!
URL:https://broadrunchurch.com/event/worship/2026-12-20/
LOCATION:Sancturary\, 675 Broad Run Rd.\, Jane Lew\, WV\, 26378
CATEGORIES:Worship
ATTACH;FMTTYPE=image/jpeg:https://broadrunchurch.com/wp-content/uploads/2023/03/IMG_8537.jpg
END:VEVENT
BEGIN:VEVENT
DTSTART;TZID=America/New_York:20261227T101500
DTEND;TZID=America/New_York:20261227T113000
DTSTAMP:20260423T222620
CREATED:20230311T152547Z
LAST-MODIFIED:20230811T011116Z
UID:10001822-1798366500-1798371000@broadrunchurch.com
SUMMARY:Worship Service
DESCRIPTION:Join us in the sanctuary each Sunday Morning for worship service!
URL:https://broadrunchurch.com/event/worship/2026-12-27/
LOCATION:Sancturary\, 675 Broad Run Rd.\, Jane Lew\, WV\, 26378
CATEGORIES:Worship
ATTACH;FMTTYPE=image/jpeg:https://broadrunchurch.com/wp-content/uploads/2023/03/IMG_8537.jpg
END:VEVENT
BEGIN:VEVENT
DTSTART;TZID=America/New_York:20270103T101500
DTEND;TZID=America/New_York:20270103T113000
DTSTAMP:20260423T222620
CREATED:20230311T152547Z
LAST-MODIFIED:20230811T011116Z
UID:10001823-1798971300-1798975800@broadrunchurch.com
SUMMARY:Worship Service
DESCRIPTION:Join us in the sanctuary each Sunday Morning for worship service!
URL:https://broadrunchurch.com/event/worship/2027-01-03/
LOCATION:Sancturary\, 675 Broad Run Rd.\, Jane Lew\, WV\, 26378
CATEGORIES:Worship
ATTACH;FMTTYPE=image/jpeg:https://broadrunchurch.com/wp-content/uploads/2023/03/IMG_8537.jpg
END:VEVENT
BEGIN:VEVENT
DTSTART;TZID=America/New_York:20270110T101500
DTEND;TZID=America/New_York:20270110T113000
DTSTAMP:20260423T222620
CREATED:20230311T152547Z
LAST-MODIFIED:20230811T011116Z
UID:10001824-1799576100-1799580600@broadrunchurch.com
SUMMARY:Worship Service
DESCRIPTION:Join us in the sanctuary each Sunday Morning for worship service!
URL:https://broadrunchurch.com/event/worship/2027-01-10/
LOCATION:Sancturary\, 675 Broad Run Rd.\, Jane Lew\, WV\, 26378
CATEGORIES:Worship
ATTACH;FMTTYPE=image/jpeg:https://broadrunchurch.com/wp-content/uploads/2023/03/IMG_8537.jpg
END:VEVENT
BEGIN:VEVENT
DTSTART;TZID=America/New_York:20270117T101500
DTEND;TZID=America/New_York:20270117T113000
DTSTAMP:20260423T222620
CREATED:20230311T152547Z
LAST-MODIFIED:20230811T011116Z
UID:10001825-1800180900-1800185400@broadrunchurch.com
SUMMARY:Worship Service
DESCRIPTION:Join us in the sanctuary each Sunday Morning for worship service!
URL:https://broadrunchurch.com/event/worship/2027-01-17/
LOCATION:Sancturary\, 675 Broad Run Rd.\, Jane Lew\, WV\, 26378
CATEGORIES:Worship
ATTACH;FMTTYPE=image/jpeg:https://broadrunchurch.com/wp-content/uploads/2023/03/IMG_8537.jpg
END:VEVENT
BEGIN:VEVENT
DTSTART;TZID=America/New_York:20270124T101500
DTEND;TZID=America/New_York:20270124T113000
DTSTAMP:20260423T222620
CREATED:20230311T152547Z
LAST-MODIFIED:20230811T011116Z
UID:10001826-1800785700-1800790200@broadrunchurch.com
SUMMARY:Worship Service
DESCRIPTION:Join us in the sanctuary each Sunday Morning for worship service!
URL:https://broadrunchurch.com/event/worship/2027-01-24/
LOCATION:Sancturary\, 675 Broad Run Rd.\, Jane Lew\, WV\, 26378
CATEGORIES:Worship
ATTACH;FMTTYPE=image/jpeg:https://broadrunchurch.com/wp-content/uploads/2023/03/IMG_8537.jpg
END:VEVENT
BEGIN:VEVENT
DTSTART;TZID=America/New_York:20270131T101500
DTEND;TZID=America/New_York:20270131T113000
DTSTAMP:20260423T222620
CREATED:20230311T152547Z
LAST-MODIFIED:20230811T011116Z
UID:10001827-1801390500-1801395000@broadrunchurch.com
SUMMARY:Worship Service
DESCRIPTION:Join us in the sanctuary each Sunday Morning for worship service!
URL:https://broadrunchurch.com/event/worship/2027-01-31/
LOCATION:Sancturary\, 675 Broad Run Rd.\, Jane Lew\, WV\, 26378
CATEGORIES:Worship
ATTACH;FMTTYPE=image/jpeg:https://broadrunchurch.com/wp-content/uploads/2023/03/IMG_8537.jpg
END:VEVENT
BEGIN:VEVENT
DTSTART;TZID=America/New_York:20270207T101500
DTEND;TZID=America/New_York:20270207T113000
DTSTAMP:20260423T222620
CREATED:20230311T152547Z
LAST-MODIFIED:20230811T011116Z
UID:10001828-1801995300-1801999800@broadrunchurch.com
SUMMARY:Worship Service
DESCRIPTION:Join us in the sanctuary each Sunday Morning for worship service!
URL:https://broadrunchurch.com/event/worship/2027-02-07/
LOCATION:Sancturary\, 675 Broad Run Rd.\, Jane Lew\, WV\, 26378
CATEGORIES:Worship
ATTACH;FMTTYPE=image/jpeg:https://broadrunchurch.com/wp-content/uploads/2023/03/IMG_8537.jpg
END:VEVENT
BEGIN:VEVENT
DTSTART;TZID=America/New_York:20270214T101500
DTEND;TZID=America/New_York:20270214T113000
DTSTAMP:20260423T222620
CREATED:20230311T152547Z
LAST-MODIFIED:20230811T011116Z
UID:10001829-1802600100-1802604600@broadrunchurch.com
SUMMARY:Worship Service
DESCRIPTION:Join us in the sanctuary each Sunday Morning for worship service!
URL:https://broadrunchurch.com/event/worship/2027-02-14/
LOCATION:Sancturary\, 675 Broad Run Rd.\, Jane Lew\, WV\, 26378
CATEGORIES:Worship
ATTACH;FMTTYPE=image/jpeg:https://broadrunchurch.com/wp-content/uploads/2023/03/IMG_8537.jpg
END:VEVENT
BEGIN:VEVENT
DTSTART;TZID=America/New_York:20270221T101500
DTEND;TZID=America/New_York:20270221T113000
DTSTAMP:20260423T222620
CREATED:20230311T152547Z
LAST-MODIFIED:20230811T011116Z
UID:10001830-1803204900-1803209400@broadrunchurch.com
SUMMARY:Worship Service
DESCRIPTION:Join us in the sanctuary each Sunday Morning for worship service!
URL:https://broadrunchurch.com/event/worship/2027-02-21/
LOCATION:Sancturary\, 675 Broad Run Rd.\, Jane Lew\, WV\, 26378
CATEGORIES:Worship
ATTACH;FMTTYPE=image/jpeg:https://broadrunchurch.com/wp-content/uploads/2023/03/IMG_8537.jpg
END:VEVENT
BEGIN:VEVENT
DTSTART;TZID=America/New_York:20270228T101500
DTEND;TZID=America/New_York:20270228T113000
DTSTAMP:20260423T222620
CREATED:20230311T152547Z
LAST-MODIFIED:20230811T011116Z
UID:10001831-1803809700-1803814200@broadrunchurch.com
SUMMARY:Worship Service
DESCRIPTION:Join us in the sanctuary each Sunday Morning for worship service!
URL:https://broadrunchurch.com/event/worship/2027-02-28/
LOCATION:Sancturary\, 675 Broad Run Rd.\, Jane Lew\, WV\, 26378
CATEGORIES:Worship
ATTACH;FMTTYPE=image/jpeg:https://broadrunchurch.com/wp-content/uploads/2023/03/IMG_8537.jpg
END:VEVENT
BEGIN:VEVENT
DTSTART;TZID=America/New_York:20270307T101500
DTEND;TZID=America/New_York:20270307T113000
DTSTAMP:20260423T222620
CREATED:20230311T152547Z
LAST-MODIFIED:20230811T011116Z
UID:10001832-1804414500-1804419000@broadrunchurch.com
SUMMARY:Worship Service
DESCRIPTION:Join us in the sanctuary each Sunday Morning for worship service!
URL:https://broadrunchurch.com/event/worship/2027-03-07/
LOCATION:Sancturary\, 675 Broad Run Rd.\, Jane Lew\, WV\, 26378
CATEGORIES:Worship
ATTACH;FMTTYPE=image/jpeg:https://broadrunchurch.com/wp-content/uploads/2023/03/IMG_8537.jpg
END:VEVENT
BEGIN:VEVENT
DTSTART;TZID=America/New_York:20270314T101500
DTEND;TZID=America/New_York:20270314T113000
DTSTAMP:20260423T222620
CREATED:20230311T152547Z
LAST-MODIFIED:20230811T011116Z
UID:10001833-1805019300-1805023800@broadrunchurch.com
SUMMARY:Worship Service
DESCRIPTION:Join us in the sanctuary each Sunday Morning for worship service!
URL:https://broadrunchurch.com/event/worship/2027-03-14/
LOCATION:Sancturary\, 675 Broad Run Rd.\, Jane Lew\, WV\, 26378
CATEGORIES:Worship
ATTACH;FMTTYPE=image/jpeg:https://broadrunchurch.com/wp-content/uploads/2023/03/IMG_8537.jpg
END:VEVENT
BEGIN:VEVENT
DTSTART;TZID=America/New_York:20270321T101500
DTEND;TZID=America/New_York:20270321T113000
DTSTAMP:20260423T222620
CREATED:20230311T152547Z
LAST-MODIFIED:20230811T011116Z
UID:10001834-1805624100-1805628600@broadrunchurch.com
SUMMARY:Worship Service
DESCRIPTION:Join us in the sanctuary each Sunday Morning for worship service!
URL:https://broadrunchurch.com/event/worship/2027-03-21/
LOCATION:Sancturary\, 675 Broad Run Rd.\, Jane Lew\, WV\, 26378
CATEGORIES:Worship
ATTACH;FMTTYPE=image/jpeg:https://broadrunchurch.com/wp-content/uploads/2023/03/IMG_8537.jpg
END:VEVENT
BEGIN:VEVENT
DTSTART;TZID=America/New_York:20270328T101500
DTEND;TZID=America/New_York:20270328T113000
DTSTAMP:20260423T222620
CREATED:20230311T152547Z
LAST-MODIFIED:20230811T011116Z
UID:10001835-1806228900-1806233400@broadrunchurch.com
SUMMARY:Worship Service
DESCRIPTION:Join us in the sanctuary each Sunday Morning for worship service!
URL:https://broadrunchurch.com/event/worship/2027-03-28/
LOCATION:Sancturary\, 675 Broad Run Rd.\, Jane Lew\, WV\, 26378
CATEGORIES:Worship
ATTACH;FMTTYPE=image/jpeg:https://broadrunchurch.com/wp-content/uploads/2023/03/IMG_8537.jpg
END:VEVENT
BEGIN:VEVENT
DTSTART;TZID=America/New_York:20270404T101500
DTEND;TZID=America/New_York:20270404T113000
DTSTAMP:20260423T222620
CREATED:20230311T152547Z
LAST-MODIFIED:20230811T011116Z
UID:10001836-1806833700-1806838200@broadrunchurch.com
SUMMARY:Worship Service
DESCRIPTION:Join us in the sanctuary each Sunday Morning for worship service!
URL:https://broadrunchurch.com/event/worship/2027-04-04/
LOCATION:Sancturary\, 675 Broad Run Rd.\, Jane Lew\, WV\, 26378
CATEGORIES:Worship
ATTACH;FMTTYPE=image/jpeg:https://broadrunchurch.com/wp-content/uploads/2023/03/IMG_8537.jpg
END:VEVENT
BEGIN:VEVENT
DTSTART;TZID=America/New_York:20270411T101500
DTEND;TZID=America/New_York:20270411T113000
DTSTAMP:20260423T222620
CREATED:20230311T152547Z
LAST-MODIFIED:20230811T011116Z
UID:10001837-1807438500-1807443000@broadrunchurch.com
SUMMARY:Worship Service
DESCRIPTION:Join us in the sanctuary each Sunday Morning for worship service!
URL:https://broadrunchurch.com/event/worship/2027-04-11/
LOCATION:Sancturary\, 675 Broad Run Rd.\, Jane Lew\, WV\, 26378
CATEGORIES:Worship
ATTACH;FMTTYPE=image/jpeg:https://broadrunchurch.com/wp-content/uploads/2023/03/IMG_8537.jpg
END:VEVENT
BEGIN:VEVENT
DTSTART;TZID=America/New_York:20270418T101500
DTEND;TZID=America/New_York:20270418T113000
DTSTAMP:20260423T222620
CREATED:20230311T152547Z
LAST-MODIFIED:20230811T011116Z
UID:10001838-1808043300-1808047800@broadrunchurch.com
SUMMARY:Worship Service
DESCRIPTION:Join us in the sanctuary each Sunday Morning for worship service!
URL:https://broadrunchurch.com/event/worship/2027-04-18/
LOCATION:Sancturary\, 675 Broad Run Rd.\, Jane Lew\, WV\, 26378
CATEGORIES:Worship
ATTACH;FMTTYPE=image/jpeg:https://broadrunchurch.com/wp-content/uploads/2023/03/IMG_8537.jpg
END:VEVENT
BEGIN:VEVENT
DTSTART;TZID=America/New_York:20270425T101500
DTEND;TZID=America/New_York:20270425T113000
DTSTAMP:20260423T222620
CREATED:20230311T152547Z
LAST-MODIFIED:20230811T011116Z
UID:10001839-1808648100-1808652600@broadrunchurch.com
SUMMARY:Worship Service
DESCRIPTION:Join us in the sanctuary each Sunday Morning for worship service!
URL:https://broadrunchurch.com/event/worship/2027-04-25/
LOCATION:Sancturary\, 675 Broad Run Rd.\, Jane Lew\, WV\, 26378
CATEGORIES:Worship
ATTACH;FMTTYPE=image/jpeg:https://broadrunchurch.com/wp-content/uploads/2023/03/IMG_8537.jpg
END:VEVENT
BEGIN:VEVENT
DTSTART;TZID=America/New_York:20270502T101500
DTEND;TZID=America/New_York:20270502T113000
DTSTAMP:20260423T222621
CREATED:20230311T152547Z
LAST-MODIFIED:20230811T011116Z
UID:10001840-1809252900-1809257400@broadrunchurch.com
SUMMARY:Worship Service
DESCRIPTION:Join us in the sanctuary each Sunday Morning for worship service!
URL:https://broadrunchurch.com/event/worship/2027-05-02/
LOCATION:Sancturary\, 675 Broad Run Rd.\, Jane Lew\, WV\, 26378
CATEGORIES:Worship
ATTACH;FMTTYPE=image/jpeg:https://broadrunchurch.com/wp-content/uploads/2023/03/IMG_8537.jpg
END:VEVENT
END:VCALENDAR