BEGIN:VCALENDAR
VERSION:2.0
PRODID:-//Broad Run Baptist Church - ECPv6.15.20//NONSGML v1.0//EN
CALSCALE:GREGORIAN
METHOD:PUBLISH
X-ORIGINAL-URL:https://broadrunchurch.com
X-WR-CALDESC:Events for Broad Run Baptist Church
REFRESH-INTERVAL;VALUE=DURATION:PT1H
X-Robots-Tag:noindex
X-PUBLISHED-TTL:PT1H
BEGIN:VTIMEZONE
TZID:America/New_York
BEGIN:DAYLIGHT
TZOFFSETFROM:-0500
TZOFFSETTO:-0400
TZNAME:EDT
DTSTART:20250309T070000
END:DAYLIGHT
BEGIN:STANDARD
TZOFFSETFROM:-0400
TZOFFSETTO:-0500
TZNAME:EST
DTSTART:20251102T060000
END:STANDARD
BEGIN:DAYLIGHT
TZOFFSETFROM:-0500
TZOFFSETTO:-0400
TZNAME:EDT
DTSTART:20260308T070000
END:DAYLIGHT
BEGIN:STANDARD
TZOFFSETFROM:-0400
TZOFFSETTO:-0500
TZNAME:EST
DTSTART:20261101T060000
END:STANDARD
BEGIN:DAYLIGHT
TZOFFSETFROM:-0500
TZOFFSETTO:-0400
TZNAME:EDT
DTSTART:20270314T070000
END:DAYLIGHT
BEGIN:STANDARD
TZOFFSETFROM:-0400
TZOFFSETTO:-0500
TZNAME:EST
DTSTART:20271107T060000
END:STANDARD
END:VTIMEZONE
BEGIN:VEVENT
DTSTART;TZID=America/New_York:20260426T101500
DTEND;TZID=America/New_York:20260426T113000
DTSTAMP:20260423T130342
CREATED:20230311T152547Z
LAST-MODIFIED:20230811T011116Z
UID:10001787-1777198500-1777203000@broadrunchurch.com
SUMMARY:Worship Service
DESCRIPTION:Join us in the sanctuary each Sunday Morning for worship service!
URL:https://broadrunchurch.com/event/worship/2026-04-26/
LOCATION:Sancturary\, 675 Broad Run Rd.\, Jane Lew\, WV\, 26378
CATEGORIES:Worship
ATTACH;FMTTYPE=image/jpeg:https://broadrunchurch.com/wp-content/uploads/2023/03/IMG_8537.jpg
END:VEVENT
BEGIN:VEVENT
DTSTART;TZID=America/New_York:20260503T101500
DTEND;TZID=America/New_York:20260503T113000
DTSTAMP:20260423T130342
CREATED:20230311T152547Z
LAST-MODIFIED:20230811T011116Z
UID:10001788-1777803300-1777807800@broadrunchurch.com
SUMMARY:Worship Service
DESCRIPTION:Join us in the sanctuary each Sunday Morning for worship service!
URL:https://broadrunchurch.com/event/worship/2026-05-03/
LOCATION:Sancturary\, 675 Broad Run Rd.\, Jane Lew\, WV\, 26378
CATEGORIES:Worship
ATTACH;FMTTYPE=image/jpeg:https://broadrunchurch.com/wp-content/uploads/2023/03/IMG_8537.jpg
END:VEVENT
BEGIN:VEVENT
DTSTART;TZID=America/New_York:20260510T101500
DTEND;TZID=America/New_York:20260510T113000
DTSTAMP:20260423T130342
CREATED:20230311T152547Z
LAST-MODIFIED:20230811T011116Z
UID:10001789-1778408100-1778412600@broadrunchurch.com
SUMMARY:Worship Service
DESCRIPTION:Join us in the sanctuary each Sunday Morning for worship service!
URL:https://broadrunchurch.com/event/worship/2026-05-10/
LOCATION:Sancturary\, 675 Broad Run Rd.\, Jane Lew\, WV\, 26378
CATEGORIES:Worship
ATTACH;FMTTYPE=image/jpeg:https://broadrunchurch.com/wp-content/uploads/2023/03/IMG_8537.jpg
END:VEVENT
BEGIN:VEVENT
DTSTART;TZID=America/New_York:20260517T101500
DTEND;TZID=America/New_York:20260517T113000
DTSTAMP:20260423T130342
CREATED:20230311T152547Z
LAST-MODIFIED:20230811T011116Z
UID:10001790-1779012900-1779017400@broadrunchurch.com
SUMMARY:Worship Service
DESCRIPTION:Join us in the sanctuary each Sunday Morning for worship service!
URL:https://broadrunchurch.com/event/worship/2026-05-17/
LOCATION:Sancturary\, 675 Broad Run Rd.\, Jane Lew\, WV\, 26378
CATEGORIES:Worship
ATTACH;FMTTYPE=image/jpeg:https://broadrunchurch.com/wp-content/uploads/2023/03/IMG_8537.jpg
END:VEVENT
BEGIN:VEVENT
DTSTART;TZID=America/New_York:20260524T101500
DTEND;TZID=America/New_York:20260524T113000
DTSTAMP:20260423T130342
CREATED:20230311T152547Z
LAST-MODIFIED:20230811T011116Z
UID:10001791-1779617700-1779622200@broadrunchurch.com
SUMMARY:Worship Service
DESCRIPTION:Join us in the sanctuary each Sunday Morning for worship service!
URL:https://broadrunchurch.com/event/worship/2026-05-24/
LOCATION:Sancturary\, 675 Broad Run Rd.\, Jane Lew\, WV\, 26378
CATEGORIES:Worship
ATTACH;FMTTYPE=image/jpeg:https://broadrunchurch.com/wp-content/uploads/2023/03/IMG_8537.jpg
END:VEVENT
BEGIN:VEVENT
DTSTART;TZID=America/New_York:20260531T101500
DTEND;TZID=America/New_York:20260531T113000
DTSTAMP:20260423T130342
CREATED:20230311T152547Z
LAST-MODIFIED:20230811T011116Z
UID:10001792-1780222500-1780227000@broadrunchurch.com
SUMMARY:Worship Service
DESCRIPTION:Join us in the sanctuary each Sunday Morning for worship service!
URL:https://broadrunchurch.com/event/worship/2026-05-31/
LOCATION:Sancturary\, 675 Broad Run Rd.\, Jane Lew\, WV\, 26378
CATEGORIES:Worship
ATTACH;FMTTYPE=image/jpeg:https://broadrunchurch.com/wp-content/uploads/2023/03/IMG_8537.jpg
END:VEVENT
BEGIN:VEVENT
DTSTART;TZID=America/New_York:20260607T101500
DTEND;TZID=America/New_York:20260607T113000
DTSTAMP:20260423T130342
CREATED:20230311T152547Z
LAST-MODIFIED:20230811T011116Z
UID:10001793-1780827300-1780831800@broadrunchurch.com
SUMMARY:Worship Service
DESCRIPTION:Join us in the sanctuary each Sunday Morning for worship service!
URL:https://broadrunchurch.com/event/worship/2026-06-07/
LOCATION:Sancturary\, 675 Broad Run Rd.\, Jane Lew\, WV\, 26378
CATEGORIES:Worship
ATTACH;FMTTYPE=image/jpeg:https://broadrunchurch.com/wp-content/uploads/2023/03/IMG_8537.jpg
END:VEVENT
BEGIN:VEVENT
DTSTART;TZID=America/New_York:20260614T101500
DTEND;TZID=America/New_York:20260614T113000
DTSTAMP:20260423T130342
CREATED:20230311T152547Z
LAST-MODIFIED:20230811T011116Z
UID:10001794-1781432100-1781436600@broadrunchurch.com
SUMMARY:Worship Service
DESCRIPTION:Join us in the sanctuary each Sunday Morning for worship service!
URL:https://broadrunchurch.com/event/worship/2026-06-14/
LOCATION:Sancturary\, 675 Broad Run Rd.\, Jane Lew\, WV\, 26378
CATEGORIES:Worship
ATTACH;FMTTYPE=image/jpeg:https://broadrunchurch.com/wp-content/uploads/2023/03/IMG_8537.jpg
END:VEVENT
BEGIN:VEVENT
DTSTART;TZID=America/New_York:20260621T101500
DTEND;TZID=America/New_York:20260621T113000
DTSTAMP:20260423T130342
CREATED:20230311T152547Z
LAST-MODIFIED:20230811T011116Z
UID:10001795-1782036900-1782041400@broadrunchurch.com
SUMMARY:Worship Service
DESCRIPTION:Join us in the sanctuary each Sunday Morning for worship service!
URL:https://broadrunchurch.com/event/worship/2026-06-21/
LOCATION:Sancturary\, 675 Broad Run Rd.\, Jane Lew\, WV\, 26378
CATEGORIES:Worship
ATTACH;FMTTYPE=image/jpeg:https://broadrunchurch.com/wp-content/uploads/2023/03/IMG_8537.jpg
END:VEVENT
BEGIN:VEVENT
DTSTART;TZID=America/New_York:20260628T101500
DTEND;TZID=America/New_York:20260628T113000
DTSTAMP:20260423T130342
CREATED:20230311T152547Z
LAST-MODIFIED:20230811T011116Z
UID:10001796-1782641700-1782646200@broadrunchurch.com
SUMMARY:Worship Service
DESCRIPTION:Join us in the sanctuary each Sunday Morning for worship service!
URL:https://broadrunchurch.com/event/worship/2026-06-28/
LOCATION:Sancturary\, 675 Broad Run Rd.\, Jane Lew\, WV\, 26378
CATEGORIES:Worship
ATTACH;FMTTYPE=image/jpeg:https://broadrunchurch.com/wp-content/uploads/2023/03/IMG_8537.jpg
END:VEVENT
BEGIN:VEVENT
DTSTART;TZID=America/New_York:20260705T101500
DTEND;TZID=America/New_York:20260705T113000
DTSTAMP:20260423T130342
CREATED:20230311T152547Z
LAST-MODIFIED:20230811T011116Z
UID:10001797-1783246500-1783251000@broadrunchurch.com
SUMMARY:Worship Service
DESCRIPTION:Join us in the sanctuary each Sunday Morning for worship service!
URL:https://broadrunchurch.com/event/worship/2026-07-05/
LOCATION:Sancturary\, 675 Broad Run Rd.\, Jane Lew\, WV\, 26378
CATEGORIES:Worship
ATTACH;FMTTYPE=image/jpeg:https://broadrunchurch.com/wp-content/uploads/2023/03/IMG_8537.jpg
END:VEVENT
BEGIN:VEVENT
DTSTART;TZID=America/New_York:20260712T101500
DTEND;TZID=America/New_York:20260712T113000
DTSTAMP:20260423T130342
CREATED:20230311T152547Z
LAST-MODIFIED:20230811T011116Z
UID:10001798-1783851300-1783855800@broadrunchurch.com
SUMMARY:Worship Service
DESCRIPTION:Join us in the sanctuary each Sunday Morning for worship service!
URL:https://broadrunchurch.com/event/worship/2026-07-12/
LOCATION:Sancturary\, 675 Broad Run Rd.\, Jane Lew\, WV\, 26378
CATEGORIES:Worship
ATTACH;FMTTYPE=image/jpeg:https://broadrunchurch.com/wp-content/uploads/2023/03/IMG_8537.jpg
END:VEVENT
BEGIN:VEVENT
DTSTART;TZID=America/New_York:20260719T101500
DTEND;TZID=America/New_York:20260719T113000
DTSTAMP:20260423T130342
CREATED:20230311T152547Z
LAST-MODIFIED:20230811T011116Z
UID:10001799-1784456100-1784460600@broadrunchurch.com
SUMMARY:Worship Service
DESCRIPTION:Join us in the sanctuary each Sunday Morning for worship service!
URL:https://broadrunchurch.com/event/worship/2026-07-19/
LOCATION:Sancturary\, 675 Broad Run Rd.\, Jane Lew\, WV\, 26378
CATEGORIES:Worship
ATTACH;FMTTYPE=image/jpeg:https://broadrunchurch.com/wp-content/uploads/2023/03/IMG_8537.jpg
END:VEVENT
BEGIN:VEVENT
DTSTART;TZID=America/New_York:20260726T101500
DTEND;TZID=America/New_York:20260726T113000
DTSTAMP:20260423T130342
CREATED:20230311T152547Z
LAST-MODIFIED:20230811T011116Z
UID:10001800-1785060900-1785065400@broadrunchurch.com
SUMMARY:Worship Service
DESCRIPTION:Join us in the sanctuary each Sunday Morning for worship service!
URL:https://broadrunchurch.com/event/worship/2026-07-26/
LOCATION:Sancturary\, 675 Broad Run Rd.\, Jane Lew\, WV\, 26378
CATEGORIES:Worship
ATTACH;FMTTYPE=image/jpeg:https://broadrunchurch.com/wp-content/uploads/2023/03/IMG_8537.jpg
END:VEVENT
BEGIN:VEVENT
DTSTART;TZID=America/New_York:20260802T101500
DTEND;TZID=America/New_York:20260802T113000
DTSTAMP:20260423T130342
CREATED:20230311T152547Z
LAST-MODIFIED:20230811T011116Z
UID:10001801-1785665700-1785670200@broadrunchurch.com
SUMMARY:Worship Service
DESCRIPTION:Join us in the sanctuary each Sunday Morning for worship service!
URL:https://broadrunchurch.com/event/worship/2026-08-02/
LOCATION:Sancturary\, 675 Broad Run Rd.\, Jane Lew\, WV\, 26378
CATEGORIES:Worship
ATTACH;FMTTYPE=image/jpeg:https://broadrunchurch.com/wp-content/uploads/2023/03/IMG_8537.jpg
END:VEVENT
BEGIN:VEVENT
DTSTART;TZID=America/New_York:20260809T101500
DTEND;TZID=America/New_York:20260809T113000
DTSTAMP:20260423T130342
CREATED:20230311T152547Z
LAST-MODIFIED:20230811T011116Z
UID:10001802-1786270500-1786275000@broadrunchurch.com
SUMMARY:Worship Service
DESCRIPTION:Join us in the sanctuary each Sunday Morning for worship service!
URL:https://broadrunchurch.com/event/worship/2026-08-09/
LOCATION:Sancturary\, 675 Broad Run Rd.\, Jane Lew\, WV\, 26378
CATEGORIES:Worship
ATTACH;FMTTYPE=image/jpeg:https://broadrunchurch.com/wp-content/uploads/2023/03/IMG_8537.jpg
END:VEVENT
BEGIN:VEVENT
DTSTART;TZID=America/New_York:20260816T101500
DTEND;TZID=America/New_York:20260816T113000
DTSTAMP:20260423T130342
CREATED:20230311T152547Z
LAST-MODIFIED:20230811T011116Z
UID:10001803-1786875300-1786879800@broadrunchurch.com
SUMMARY:Worship Service
DESCRIPTION:Join us in the sanctuary each Sunday Morning for worship service!
URL:https://broadrunchurch.com/event/worship/2026-08-16/
LOCATION:Sancturary\, 675 Broad Run Rd.\, Jane Lew\, WV\, 26378
CATEGORIES:Worship
ATTACH;FMTTYPE=image/jpeg:https://broadrunchurch.com/wp-content/uploads/2023/03/IMG_8537.jpg
END:VEVENT
BEGIN:VEVENT
DTSTART;TZID=America/New_York:20260823T101500
DTEND;TZID=America/New_York:20260823T113000
DTSTAMP:20260423T130342
CREATED:20230311T152547Z
LAST-MODIFIED:20230811T011116Z
UID:10001804-1787480100-1787484600@broadrunchurch.com
SUMMARY:Worship Service
DESCRIPTION:Join us in the sanctuary each Sunday Morning for worship service!
URL:https://broadrunchurch.com/event/worship/2026-08-23/
LOCATION:Sancturary\, 675 Broad Run Rd.\, Jane Lew\, WV\, 26378
CATEGORIES:Worship
ATTACH;FMTTYPE=image/jpeg:https://broadrunchurch.com/wp-content/uploads/2023/03/IMG_8537.jpg
END:VEVENT
BEGIN:VEVENT
DTSTART;TZID=America/New_York:20260830T101500
DTEND;TZID=America/New_York:20260830T113000
DTSTAMP:20260423T130342
CREATED:20230311T152547Z
LAST-MODIFIED:20230811T011116Z
UID:10001805-1788084900-1788089400@broadrunchurch.com
SUMMARY:Worship Service
DESCRIPTION:Join us in the sanctuary each Sunday Morning for worship service!
URL:https://broadrunchurch.com/event/worship/2026-08-30/
LOCATION:Sancturary\, 675 Broad Run Rd.\, Jane Lew\, WV\, 26378
CATEGORIES:Worship
ATTACH;FMTTYPE=image/jpeg:https://broadrunchurch.com/wp-content/uploads/2023/03/IMG_8537.jpg
END:VEVENT
BEGIN:VEVENT
DTSTART;TZID=America/New_York:20260906T101500
DTEND;TZID=America/New_York:20260906T113000
DTSTAMP:20260423T130342
CREATED:20230311T152547Z
LAST-MODIFIED:20230811T011116Z
UID:10001806-1788689700-1788694200@broadrunchurch.com
SUMMARY:Worship Service
DESCRIPTION:Join us in the sanctuary each Sunday Morning for worship service!
URL:https://broadrunchurch.com/event/worship/2026-09-06/
LOCATION:Sancturary\, 675 Broad Run Rd.\, Jane Lew\, WV\, 26378
CATEGORIES:Worship
ATTACH;FMTTYPE=image/jpeg:https://broadrunchurch.com/wp-content/uploads/2023/03/IMG_8537.jpg
END:VEVENT
BEGIN:VEVENT
DTSTART;TZID=America/New_York:20260913T101500
DTEND;TZID=America/New_York:20260913T113000
DTSTAMP:20260423T130342
CREATED:20230311T152547Z
LAST-MODIFIED:20230811T011116Z
UID:10001807-1789294500-1789299000@broadrunchurch.com
SUMMARY:Worship Service
DESCRIPTION:Join us in the sanctuary each Sunday Morning for worship service!
URL:https://broadrunchurch.com/event/worship/2026-09-13/
LOCATION:Sancturary\, 675 Broad Run Rd.\, Jane Lew\, WV\, 26378
CATEGORIES:Worship
ATTACH;FMTTYPE=image/jpeg:https://broadrunchurch.com/wp-content/uploads/2023/03/IMG_8537.jpg
END:VEVENT
BEGIN:VEVENT
DTSTART;TZID=America/New_York:20260920T101500
DTEND;TZID=America/New_York:20260920T113000
DTSTAMP:20260423T130342
CREATED:20230311T152547Z
LAST-MODIFIED:20230811T011116Z
UID:10001808-1789899300-1789903800@broadrunchurch.com
SUMMARY:Worship Service
DESCRIPTION:Join us in the sanctuary each Sunday Morning for worship service!
URL:https://broadrunchurch.com/event/worship/2026-09-20/
LOCATION:Sancturary\, 675 Broad Run Rd.\, Jane Lew\, WV\, 26378
CATEGORIES:Worship
ATTACH;FMTTYPE=image/jpeg:https://broadrunchurch.com/wp-content/uploads/2023/03/IMG_8537.jpg
END:VEVENT
BEGIN:VEVENT
DTSTART;TZID=America/New_York:20260927T101500
DTEND;TZID=America/New_York:20260927T113000
DTSTAMP:20260423T130342
CREATED:20230311T152547Z
LAST-MODIFIED:20230811T011116Z
UID:10001809-1790504100-1790508600@broadrunchurch.com
SUMMARY:Worship Service
DESCRIPTION:Join us in the sanctuary each Sunday Morning for worship service!
URL:https://broadrunchurch.com/event/worship/2026-09-27/
LOCATION:Sancturary\, 675 Broad Run Rd.\, Jane Lew\, WV\, 26378
CATEGORIES:Worship
ATTACH;FMTTYPE=image/jpeg:https://broadrunchurch.com/wp-content/uploads/2023/03/IMG_8537.jpg
END:VEVENT
BEGIN:VEVENT
DTSTART;TZID=America/New_York:20261004T101500
DTEND;TZID=America/New_York:20261004T113000
DTSTAMP:20260423T130342
CREATED:20230311T152547Z
LAST-MODIFIED:20230811T011116Z
UID:10001810-1791108900-1791113400@broadrunchurch.com
SUMMARY:Worship Service
DESCRIPTION:Join us in the sanctuary each Sunday Morning for worship service!
URL:https://broadrunchurch.com/event/worship/2026-10-04/
LOCATION:Sancturary\, 675 Broad Run Rd.\, Jane Lew\, WV\, 26378
CATEGORIES:Worship
ATTACH;FMTTYPE=image/jpeg:https://broadrunchurch.com/wp-content/uploads/2023/03/IMG_8537.jpg
END:VEVENT
BEGIN:VEVENT
DTSTART;TZID=America/New_York:20261011T101500
DTEND;TZID=America/New_York:20261011T113000
DTSTAMP:20260423T130342
CREATED:20230311T152547Z
LAST-MODIFIED:20230811T011116Z
UID:10001811-1791713700-1791718200@broadrunchurch.com
SUMMARY:Worship Service
DESCRIPTION:Join us in the sanctuary each Sunday Morning for worship service!
URL:https://broadrunchurch.com/event/worship/2026-10-11/
LOCATION:Sancturary\, 675 Broad Run Rd.\, Jane Lew\, WV\, 26378
CATEGORIES:Worship
ATTACH;FMTTYPE=image/jpeg:https://broadrunchurch.com/wp-content/uploads/2023/03/IMG_8537.jpg
END:VEVENT
BEGIN:VEVENT
DTSTART;TZID=America/New_York:20261018T101500
DTEND;TZID=America/New_York:20261018T113000
DTSTAMP:20260423T130342
CREATED:20230311T152547Z
LAST-MODIFIED:20230811T011116Z
UID:10001812-1792318500-1792323000@broadrunchurch.com
SUMMARY:Worship Service
DESCRIPTION:Join us in the sanctuary each Sunday Morning for worship service!
URL:https://broadrunchurch.com/event/worship/2026-10-18/
LOCATION:Sancturary\, 675 Broad Run Rd.\, Jane Lew\, WV\, 26378
CATEGORIES:Worship
ATTACH;FMTTYPE=image/jpeg:https://broadrunchurch.com/wp-content/uploads/2023/03/IMG_8537.jpg
END:VEVENT
BEGIN:VEVENT
DTSTART;TZID=America/New_York:20261025T101500
DTEND;TZID=America/New_York:20261025T113000
DTSTAMP:20260423T130342
CREATED:20230311T152547Z
LAST-MODIFIED:20230811T011116Z
UID:10001813-1792923300-1792927800@broadrunchurch.com
SUMMARY:Worship Service
DESCRIPTION:Join us in the sanctuary each Sunday Morning for worship service!
URL:https://broadrunchurch.com/event/worship/2026-10-25/
LOCATION:Sancturary\, 675 Broad Run Rd.\, Jane Lew\, WV\, 26378
CATEGORIES:Worship
ATTACH;FMTTYPE=image/jpeg:https://broadrunchurch.com/wp-content/uploads/2023/03/IMG_8537.jpg
END:VEVENT
BEGIN:VEVENT
DTSTART;TZID=America/New_York:20261101T101500
DTEND;TZID=America/New_York:20261101T113000
DTSTAMP:20260423T130342
CREATED:20230311T152547Z
LAST-MODIFIED:20230811T011116Z
UID:10001814-1793528100-1793532600@broadrunchurch.com
SUMMARY:Worship Service
DESCRIPTION:Join us in the sanctuary each Sunday Morning for worship service!
URL:https://broadrunchurch.com/event/worship/2026-11-01/
LOCATION:Sancturary\, 675 Broad Run Rd.\, Jane Lew\, WV\, 26378
CATEGORIES:Worship
ATTACH;FMTTYPE=image/jpeg:https://broadrunchurch.com/wp-content/uploads/2023/03/IMG_8537.jpg
END:VEVENT
BEGIN:VEVENT
DTSTART;TZID=America/New_York:20261108T101500
DTEND;TZID=America/New_York:20261108T113000
DTSTAMP:20260423T130342
CREATED:20230311T152547Z
LAST-MODIFIED:20230811T011116Z
UID:10001815-1794132900-1794137400@broadrunchurch.com
SUMMARY:Worship Service
DESCRIPTION:Join us in the sanctuary each Sunday Morning for worship service!
URL:https://broadrunchurch.com/event/worship/2026-11-08/
LOCATION:Sancturary\, 675 Broad Run Rd.\, Jane Lew\, WV\, 26378
CATEGORIES:Worship
ATTACH;FMTTYPE=image/jpeg:https://broadrunchurch.com/wp-content/uploads/2023/03/IMG_8537.jpg
END:VEVENT
BEGIN:VEVENT
DTSTART;TZID=America/New_York:20261115T101500
DTEND;TZID=America/New_York:20261115T113000
DTSTAMP:20260423T130342
CREATED:20230311T152547Z
LAST-MODIFIED:20230811T011116Z
UID:10001816-1794737700-1794742200@broadrunchurch.com
SUMMARY:Worship Service
DESCRIPTION:Join us in the sanctuary each Sunday Morning for worship service!
URL:https://broadrunchurch.com/event/worship/2026-11-15/
LOCATION:Sancturary\, 675 Broad Run Rd.\, Jane Lew\, WV\, 26378
CATEGORIES:Worship
ATTACH;FMTTYPE=image/jpeg:https://broadrunchurch.com/wp-content/uploads/2023/03/IMG_8537.jpg
END:VEVENT
END:VCALENDAR