BEGIN:VCALENDAR
VERSION:2.0
PRODID:-//Broad Run Baptist Church - ECPv6.15.20//NONSGML v1.0//EN
CALSCALE:GREGORIAN
METHOD:PUBLISH
X-ORIGINAL-URL:https://broadrunchurch.com
X-WR-CALDESC:Events for Broad Run Baptist Church
REFRESH-INTERVAL;VALUE=DURATION:PT1H
X-Robots-Tag:noindex
X-PUBLISHED-TTL:PT1H
BEGIN:VTIMEZONE
TZID:America/New_York
BEGIN:DAYLIGHT
TZOFFSETFROM:-0500
TZOFFSETTO:-0400
TZNAME:EDT
DTSTART:20250309T070000
END:DAYLIGHT
BEGIN:STANDARD
TZOFFSETFROM:-0400
TZOFFSETTO:-0500
TZNAME:EST
DTSTART:20251102T060000
END:STANDARD
BEGIN:DAYLIGHT
TZOFFSETFROM:-0500
TZOFFSETTO:-0400
TZNAME:EDT
DTSTART:20260308T070000
END:DAYLIGHT
BEGIN:STANDARD
TZOFFSETFROM:-0400
TZOFFSETTO:-0500
TZNAME:EST
DTSTART:20261101T060000
END:STANDARD
BEGIN:DAYLIGHT
TZOFFSETFROM:-0500
TZOFFSETTO:-0400
TZNAME:EDT
DTSTART:20270314T070000
END:DAYLIGHT
BEGIN:STANDARD
TZOFFSETFROM:-0400
TZOFFSETTO:-0500
TZNAME:EST
DTSTART:20271107T060000
END:STANDARD
BEGIN:DAYLIGHT
TZOFFSETFROM:-0500
TZOFFSETTO:-0400
TZNAME:EDT
DTSTART:20280312T070000
END:DAYLIGHT
BEGIN:STANDARD
TZOFFSETFROM:-0400
TZOFFSETTO:-0500
TZNAME:EST
DTSTART:20281105T060000
END:STANDARD
BEGIN:DAYLIGHT
TZOFFSETFROM:-0500
TZOFFSETTO:-0400
TZNAME:EDT
DTSTART:20290311T070000
END:DAYLIGHT
BEGIN:STANDARD
TZOFFSETFROM:-0400
TZOFFSETTO:-0500
TZNAME:EST
DTSTART:20291104T060000
END:STANDARD
END:VTIMEZONE
BEGIN:VEVENT
DTSTART;TZID=America/New_York:20260503T083000
DTEND;TZID=America/New_York:20260503T090000
DTSTAMP:20260423T181305
CREATED:20240219T171255Z
LAST-MODIFIED:20240219T171255Z
UID:10002471-1777797000-1777798800@broadrunchurch.com
SUMMARY:Sunday School Breakfast
DESCRIPTION:
URL:https://broadrunchurch.com/event/sunday-school-breakfast/2026-05-03/
LOCATION:Fellowship Hall\, 675 Broad Run Rd.\, Jane Lew\, WV\, 26378
CATEGORIES:Christian Education,Dinner
ORGANIZER;CN="Christian Ed Board":MAILTO:church675@outlook.com
END:VEVENT
BEGIN:VEVENT
DTSTART;TZID=America/New_York:20260607T083000
DTEND;TZID=America/New_York:20260607T090000
DTSTAMP:20260423T181305
CREATED:20240219T171255Z
LAST-MODIFIED:20240219T171255Z
UID:10002472-1780821000-1780822800@broadrunchurch.com
SUMMARY:Sunday School Breakfast
DESCRIPTION:
URL:https://broadrunchurch.com/event/sunday-school-breakfast/2026-06-07/
LOCATION:Fellowship Hall\, 675 Broad Run Rd.\, Jane Lew\, WV\, 26378
CATEGORIES:Christian Education,Dinner
ORGANIZER;CN="Christian Ed Board":MAILTO:church675@outlook.com
END:VEVENT
BEGIN:VEVENT
DTSTART;TZID=America/New_York:20260705T083000
DTEND;TZID=America/New_York:20260705T090000
DTSTAMP:20260423T181306
CREATED:20240219T171255Z
LAST-MODIFIED:20240219T171255Z
UID:10002473-1783240200-1783242000@broadrunchurch.com
SUMMARY:Sunday School Breakfast
DESCRIPTION:
URL:https://broadrunchurch.com/event/sunday-school-breakfast/2026-07-05/
LOCATION:Fellowship Hall\, 675 Broad Run Rd.\, Jane Lew\, WV\, 26378
CATEGORIES:Christian Education,Dinner
ORGANIZER;CN="Christian Ed Board":MAILTO:church675@outlook.com
END:VEVENT
BEGIN:VEVENT
DTSTART;TZID=America/New_York:20260802T083000
DTEND;TZID=America/New_York:20260802T090000
DTSTAMP:20260423T181306
CREATED:20240219T171255Z
LAST-MODIFIED:20240219T171255Z
UID:10002474-1785659400-1785661200@broadrunchurch.com
SUMMARY:Sunday School Breakfast
DESCRIPTION:
URL:https://broadrunchurch.com/event/sunday-school-breakfast/2026-08-02/
LOCATION:Fellowship Hall\, 675 Broad Run Rd.\, Jane Lew\, WV\, 26378
CATEGORIES:Christian Education,Dinner
ORGANIZER;CN="Christian Ed Board":MAILTO:church675@outlook.com
END:VEVENT
BEGIN:VEVENT
DTSTART;TZID=America/New_York:20260906T083000
DTEND;TZID=America/New_York:20260906T090000
DTSTAMP:20260423T181306
CREATED:20240219T171255Z
LAST-MODIFIED:20240219T171255Z
UID:10002475-1788683400-1788685200@broadrunchurch.com
SUMMARY:Sunday School Breakfast
DESCRIPTION:
URL:https://broadrunchurch.com/event/sunday-school-breakfast/2026-09-06/
LOCATION:Fellowship Hall\, 675 Broad Run Rd.\, Jane Lew\, WV\, 26378
CATEGORIES:Christian Education,Dinner
ORGANIZER;CN="Christian Ed Board":MAILTO:church675@outlook.com
END:VEVENT
BEGIN:VEVENT
DTSTART;TZID=America/New_York:20261004T083000
DTEND;TZID=America/New_York:20261004T090000
DTSTAMP:20260423T181306
CREATED:20240219T171255Z
LAST-MODIFIED:20240219T171255Z
UID:10002476-1791102600-1791104400@broadrunchurch.com
SUMMARY:Sunday School Breakfast
DESCRIPTION:
URL:https://broadrunchurch.com/event/sunday-school-breakfast/2026-10-04/
LOCATION:Fellowship Hall\, 675 Broad Run Rd.\, Jane Lew\, WV\, 26378
CATEGORIES:Christian Education,Dinner
ORGANIZER;CN="Christian Ed Board":MAILTO:church675@outlook.com
END:VEVENT
BEGIN:VEVENT
DTSTART;TZID=America/New_York:20261101T083000
DTEND;TZID=America/New_York:20261101T090000
DTSTAMP:20260423T181306
CREATED:20240219T171255Z
LAST-MODIFIED:20240219T171255Z
UID:10002477-1793521800-1793523600@broadrunchurch.com
SUMMARY:Sunday School Breakfast
DESCRIPTION:
URL:https://broadrunchurch.com/event/sunday-school-breakfast/2026-11-01/
LOCATION:Fellowship Hall\, 675 Broad Run Rd.\, Jane Lew\, WV\, 26378
CATEGORIES:Christian Education,Dinner
ORGANIZER;CN="Christian Ed Board":MAILTO:church675@outlook.com
END:VEVENT
BEGIN:VEVENT
DTSTART;TZID=America/New_York:20261206T083000
DTEND;TZID=America/New_York:20261206T090000
DTSTAMP:20260423T181306
CREATED:20240219T171255Z
LAST-MODIFIED:20240219T171255Z
UID:10002478-1796545800-1796547600@broadrunchurch.com
SUMMARY:Sunday School Breakfast
DESCRIPTION:
URL:https://broadrunchurch.com/event/sunday-school-breakfast/2026-12-06/
LOCATION:Fellowship Hall\, 675 Broad Run Rd.\, Jane Lew\, WV\, 26378
CATEGORIES:Christian Education,Dinner
ORGANIZER;CN="Christian Ed Board":MAILTO:church675@outlook.com
END:VEVENT
BEGIN:VEVENT
DTSTART;TZID=America/New_York:20270103T083000
DTEND;TZID=America/New_York:20270103T090000
DTSTAMP:20260423T181306
CREATED:20240219T171255Z
LAST-MODIFIED:20240219T171255Z
UID:10002479-1798965000-1798966800@broadrunchurch.com
SUMMARY:Sunday School Breakfast
DESCRIPTION:
URL:https://broadrunchurch.com/event/sunday-school-breakfast/2027-01-03/
LOCATION:Fellowship Hall\, 675 Broad Run Rd.\, Jane Lew\, WV\, 26378
CATEGORIES:Christian Education,Dinner
ORGANIZER;CN="Christian Ed Board":MAILTO:church675@outlook.com
END:VEVENT
BEGIN:VEVENT
DTSTART;TZID=America/New_York:20270207T083000
DTEND;TZID=America/New_York:20270207T090000
DTSTAMP:20260423T181306
CREATED:20240219T171255Z
LAST-MODIFIED:20240219T171255Z
UID:10002480-1801989000-1801990800@broadrunchurch.com
SUMMARY:Sunday School Breakfast
DESCRIPTION:
URL:https://broadrunchurch.com/event/sunday-school-breakfast/2027-02-07/
LOCATION:Fellowship Hall\, 675 Broad Run Rd.\, Jane Lew\, WV\, 26378
CATEGORIES:Christian Education,Dinner
ORGANIZER;CN="Christian Ed Board":MAILTO:church675@outlook.com
END:VEVENT
BEGIN:VEVENT
DTSTART;TZID=America/New_York:20270307T083000
DTEND;TZID=America/New_York:20270307T090000
DTSTAMP:20260423T181306
CREATED:20240219T171255Z
LAST-MODIFIED:20240219T171255Z
UID:10002481-1804408200-1804410000@broadrunchurch.com
SUMMARY:Sunday School Breakfast
DESCRIPTION:
URL:https://broadrunchurch.com/event/sunday-school-breakfast/2027-03-07/
LOCATION:Fellowship Hall\, 675 Broad Run Rd.\, Jane Lew\, WV\, 26378
CATEGORIES:Christian Education,Dinner
ORGANIZER;CN="Christian Ed Board":MAILTO:church675@outlook.com
END:VEVENT
BEGIN:VEVENT
DTSTART;TZID=America/New_York:20270404T083000
DTEND;TZID=America/New_York:20270404T090000
DTSTAMP:20260423T181306
CREATED:20240219T171255Z
LAST-MODIFIED:20240219T171255Z
UID:10002482-1806827400-1806829200@broadrunchurch.com
SUMMARY:Sunday School Breakfast
DESCRIPTION:
URL:https://broadrunchurch.com/event/sunday-school-breakfast/2027-04-04/
LOCATION:Fellowship Hall\, 675 Broad Run Rd.\, Jane Lew\, WV\, 26378
CATEGORIES:Christian Education,Dinner
ORGANIZER;CN="Christian Ed Board":MAILTO:church675@outlook.com
END:VEVENT
BEGIN:VEVENT
DTSTART;TZID=America/New_York:20270502T083000
DTEND;TZID=America/New_York:20270502T090000
DTSTAMP:20260423T181306
CREATED:20240219T171255Z
LAST-MODIFIED:20240219T171255Z
UID:10002483-1809246600-1809248400@broadrunchurch.com
SUMMARY:Sunday School Breakfast
DESCRIPTION:
URL:https://broadrunchurch.com/event/sunday-school-breakfast/2027-05-02/
LOCATION:Fellowship Hall\, 675 Broad Run Rd.\, Jane Lew\, WV\, 26378
CATEGORIES:Christian Education,Dinner
ORGANIZER;CN="Christian Ed Board":MAILTO:church675@outlook.com
END:VEVENT
BEGIN:VEVENT
DTSTART;TZID=America/New_York:20270606T083000
DTEND;TZID=America/New_York:20270606T090000
DTSTAMP:20260423T181306
CREATED:20240219T171255Z
LAST-MODIFIED:20240219T171255Z
UID:10002484-1812270600-1812272400@broadrunchurch.com
SUMMARY:Sunday School Breakfast
DESCRIPTION:
URL:https://broadrunchurch.com/event/sunday-school-breakfast/2027-06-06/
LOCATION:Fellowship Hall\, 675 Broad Run Rd.\, Jane Lew\, WV\, 26378
CATEGORIES:Christian Education,Dinner
ORGANIZER;CN="Christian Ed Board":MAILTO:church675@outlook.com
END:VEVENT
BEGIN:VEVENT
DTSTART;TZID=America/New_York:20270704T083000
DTEND;TZID=America/New_York:20270704T090000
DTSTAMP:20260423T181306
CREATED:20240219T171255Z
LAST-MODIFIED:20240219T171255Z
UID:10002485-1814689800-1814691600@broadrunchurch.com
SUMMARY:Sunday School Breakfast
DESCRIPTION:
URL:https://broadrunchurch.com/event/sunday-school-breakfast/2027-07-04/
LOCATION:Fellowship Hall\, 675 Broad Run Rd.\, Jane Lew\, WV\, 26378
CATEGORIES:Christian Education,Dinner
ORGANIZER;CN="Christian Ed Board":MAILTO:church675@outlook.com
END:VEVENT
BEGIN:VEVENT
DTSTART;TZID=America/New_York:20270801T083000
DTEND;TZID=America/New_York:20270801T090000
DTSTAMP:20260423T181306
CREATED:20240219T171255Z
LAST-MODIFIED:20240219T171255Z
UID:10002486-1817109000-1817110800@broadrunchurch.com
SUMMARY:Sunday School Breakfast
DESCRIPTION:
URL:https://broadrunchurch.com/event/sunday-school-breakfast/2027-08-01/
LOCATION:Fellowship Hall\, 675 Broad Run Rd.\, Jane Lew\, WV\, 26378
CATEGORIES:Christian Education,Dinner
ORGANIZER;CN="Christian Ed Board":MAILTO:church675@outlook.com
END:VEVENT
BEGIN:VEVENT
DTSTART;TZID=America/New_York:20270905T083000
DTEND;TZID=America/New_York:20270905T090000
DTSTAMP:20260423T181306
CREATED:20240219T171255Z
LAST-MODIFIED:20240219T171255Z
UID:10002487-1820133000-1820134800@broadrunchurch.com
SUMMARY:Sunday School Breakfast
DESCRIPTION:
URL:https://broadrunchurch.com/event/sunday-school-breakfast/2027-09-05/
LOCATION:Fellowship Hall\, 675 Broad Run Rd.\, Jane Lew\, WV\, 26378
CATEGORIES:Christian Education,Dinner
ORGANIZER;CN="Christian Ed Board":MAILTO:church675@outlook.com
END:VEVENT
BEGIN:VEVENT
DTSTART;TZID=America/New_York:20271003T083000
DTEND;TZID=America/New_York:20271003T090000
DTSTAMP:20260423T181306
CREATED:20240219T171255Z
LAST-MODIFIED:20240219T171255Z
UID:10002488-1822552200-1822554000@broadrunchurch.com
SUMMARY:Sunday School Breakfast
DESCRIPTION:
URL:https://broadrunchurch.com/event/sunday-school-breakfast/2027-10-03/
LOCATION:Fellowship Hall\, 675 Broad Run Rd.\, Jane Lew\, WV\, 26378
CATEGORIES:Christian Education,Dinner
ORGANIZER;CN="Christian Ed Board":MAILTO:church675@outlook.com
END:VEVENT
BEGIN:VEVENT
DTSTART;TZID=America/New_York:20271107T083000
DTEND;TZID=America/New_York:20271107T090000
DTSTAMP:20260423T181306
CREATED:20240219T171255Z
LAST-MODIFIED:20240219T171255Z
UID:10002489-1825576200-1825578000@broadrunchurch.com
SUMMARY:Sunday School Breakfast
DESCRIPTION:
URL:https://broadrunchurch.com/event/sunday-school-breakfast/2027-11-07/
LOCATION:Fellowship Hall\, 675 Broad Run Rd.\, Jane Lew\, WV\, 26378
CATEGORIES:Christian Education,Dinner
ORGANIZER;CN="Christian Ed Board":MAILTO:church675@outlook.com
END:VEVENT
BEGIN:VEVENT
DTSTART;TZID=America/New_York:20271205T083000
DTEND;TZID=America/New_York:20271205T090000
DTSTAMP:20260423T181306
CREATED:20240219T171255Z
LAST-MODIFIED:20240219T171255Z
UID:10002490-1827995400-1827997200@broadrunchurch.com
SUMMARY:Sunday School Breakfast
DESCRIPTION:
URL:https://broadrunchurch.com/event/sunday-school-breakfast/2027-12-05/
LOCATION:Fellowship Hall\, 675 Broad Run Rd.\, Jane Lew\, WV\, 26378
CATEGORIES:Christian Education,Dinner
ORGANIZER;CN="Christian Ed Board":MAILTO:church675@outlook.com
END:VEVENT
BEGIN:VEVENT
DTSTART;TZID=America/New_York:20280102T083000
DTEND;TZID=America/New_York:20280102T090000
DTSTAMP:20260423T181306
CREATED:20240219T171255Z
LAST-MODIFIED:20240219T171255Z
UID:10002491-1830414600-1830416400@broadrunchurch.com
SUMMARY:Sunday School Breakfast
DESCRIPTION:
URL:https://broadrunchurch.com/event/sunday-school-breakfast/2028-01-02/
LOCATION:Fellowship Hall\, 675 Broad Run Rd.\, Jane Lew\, WV\, 26378
CATEGORIES:Christian Education,Dinner
ORGANIZER;CN="Christian Ed Board":MAILTO:church675@outlook.com
END:VEVENT
BEGIN:VEVENT
DTSTART;TZID=America/New_York:20280206T083000
DTEND;TZID=America/New_York:20280206T090000
DTSTAMP:20260423T181306
CREATED:20240219T171255Z
LAST-MODIFIED:20240219T171255Z
UID:10002492-1833438600-1833440400@broadrunchurch.com
SUMMARY:Sunday School Breakfast
DESCRIPTION:
URL:https://broadrunchurch.com/event/sunday-school-breakfast/2028-02-06/
LOCATION:Fellowship Hall\, 675 Broad Run Rd.\, Jane Lew\, WV\, 26378
CATEGORIES:Christian Education,Dinner
ORGANIZER;CN="Christian Ed Board":MAILTO:church675@outlook.com
END:VEVENT
BEGIN:VEVENT
DTSTART;TZID=America/New_York:20280305T083000
DTEND;TZID=America/New_York:20280305T090000
DTSTAMP:20260423T181306
CREATED:20240219T171255Z
LAST-MODIFIED:20240219T171255Z
UID:10002493-1835857800-1835859600@broadrunchurch.com
SUMMARY:Sunday School Breakfast
DESCRIPTION:
URL:https://broadrunchurch.com/event/sunday-school-breakfast/2028-03-05/
LOCATION:Fellowship Hall\, 675 Broad Run Rd.\, Jane Lew\, WV\, 26378
CATEGORIES:Christian Education,Dinner
ORGANIZER;CN="Christian Ed Board":MAILTO:church675@outlook.com
END:VEVENT
BEGIN:VEVENT
DTSTART;TZID=America/New_York:20280402T083000
DTEND;TZID=America/New_York:20280402T090000
DTSTAMP:20260423T181306
CREATED:20240219T171255Z
LAST-MODIFIED:20240219T171255Z
UID:10002494-1838277000-1838278800@broadrunchurch.com
SUMMARY:Sunday School Breakfast
DESCRIPTION:
URL:https://broadrunchurch.com/event/sunday-school-breakfast/2028-04-02/
LOCATION:Fellowship Hall\, 675 Broad Run Rd.\, Jane Lew\, WV\, 26378
CATEGORIES:Christian Education,Dinner
ORGANIZER;CN="Christian Ed Board":MAILTO:church675@outlook.com
END:VEVENT
BEGIN:VEVENT
DTSTART;TZID=America/New_York:20280507T083000
DTEND;TZID=America/New_York:20280507T090000
DTSTAMP:20260423T181306
CREATED:20240219T171255Z
LAST-MODIFIED:20240219T171255Z
UID:10002495-1841301000-1841302800@broadrunchurch.com
SUMMARY:Sunday School Breakfast
DESCRIPTION:
URL:https://broadrunchurch.com/event/sunday-school-breakfast/2028-05-07/
LOCATION:Fellowship Hall\, 675 Broad Run Rd.\, Jane Lew\, WV\, 26378
CATEGORIES:Christian Education,Dinner
ORGANIZER;CN="Christian Ed Board":MAILTO:church675@outlook.com
END:VEVENT
BEGIN:VEVENT
DTSTART;TZID=America/New_York:20280604T083000
DTEND;TZID=America/New_York:20280604T090000
DTSTAMP:20260423T181306
CREATED:20240219T171255Z
LAST-MODIFIED:20240219T171255Z
UID:10002496-1843720200-1843722000@broadrunchurch.com
SUMMARY:Sunday School Breakfast
DESCRIPTION:
URL:https://broadrunchurch.com/event/sunday-school-breakfast/2028-06-04/
LOCATION:Fellowship Hall\, 675 Broad Run Rd.\, Jane Lew\, WV\, 26378
CATEGORIES:Christian Education,Dinner
ORGANIZER;CN="Christian Ed Board":MAILTO:church675@outlook.com
END:VEVENT
BEGIN:VEVENT
DTSTART;TZID=America/New_York:20280702T083000
DTEND;TZID=America/New_York:20280702T090000
DTSTAMP:20260423T181306
CREATED:20240219T171255Z
LAST-MODIFIED:20240219T171255Z
UID:10002497-1846139400-1846141200@broadrunchurch.com
SUMMARY:Sunday School Breakfast
DESCRIPTION:
URL:https://broadrunchurch.com/event/sunday-school-breakfast/2028-07-02/
LOCATION:Fellowship Hall\, 675 Broad Run Rd.\, Jane Lew\, WV\, 26378
CATEGORIES:Christian Education,Dinner
ORGANIZER;CN="Christian Ed Board":MAILTO:church675@outlook.com
END:VEVENT
BEGIN:VEVENT
DTSTART;TZID=America/New_York:20280806T083000
DTEND;TZID=America/New_York:20280806T090000
DTSTAMP:20260423T181306
CREATED:20240219T171255Z
LAST-MODIFIED:20240219T171255Z
UID:10002498-1849163400-1849165200@broadrunchurch.com
SUMMARY:Sunday School Breakfast
DESCRIPTION:
URL:https://broadrunchurch.com/event/sunday-school-breakfast/2028-08-06/
LOCATION:Fellowship Hall\, 675 Broad Run Rd.\, Jane Lew\, WV\, 26378
CATEGORIES:Christian Education,Dinner
ORGANIZER;CN="Christian Ed Board":MAILTO:church675@outlook.com
END:VEVENT
BEGIN:VEVENT
DTSTART;TZID=America/New_York:20280903T083000
DTEND;TZID=America/New_York:20280903T090000
DTSTAMP:20260423T181306
CREATED:20240219T171255Z
LAST-MODIFIED:20240219T171255Z
UID:10002499-1851582600-1851584400@broadrunchurch.com
SUMMARY:Sunday School Breakfast
DESCRIPTION:
URL:https://broadrunchurch.com/event/sunday-school-breakfast/2028-09-03/
LOCATION:Fellowship Hall\, 675 Broad Run Rd.\, Jane Lew\, WV\, 26378
CATEGORIES:Christian Education,Dinner
ORGANIZER;CN="Christian Ed Board":MAILTO:church675@outlook.com
END:VEVENT
BEGIN:VEVENT
DTSTART;TZID=America/New_York:20281001T083000
DTEND;TZID=America/New_York:20281001T090000
DTSTAMP:20260423T181306
CREATED:20240219T171255Z
LAST-MODIFIED:20240219T171255Z
UID:10002500-1854001800-1854003600@broadrunchurch.com
SUMMARY:Sunday School Breakfast
DESCRIPTION:
URL:https://broadrunchurch.com/event/sunday-school-breakfast/2028-10-01/
LOCATION:Fellowship Hall\, 675 Broad Run Rd.\, Jane Lew\, WV\, 26378
CATEGORIES:Christian Education,Dinner
ORGANIZER;CN="Christian Ed Board":MAILTO:church675@outlook.com
END:VEVENT
END:VCALENDAR